Workbook

Sheet Tabblad_1_Gebiedsaanvraag2027
A1: Rekenformulier gebiedsaanvraag ANLb 2027
A3: Tabblad 1 - Uitbreiding gebiedsaanvraag 2027
A6: Lopende beschikking 2026 | B6: Leefgebied | C6: Minimum hectares | D6: Maximum hectares | E6: Gemiddeld bedrag per hectare | F6: Jaarbedrag
B7: A11 - Open grasland
B8: A12 - Open akkerland
B9: A15 - Dooradering
B10: W01 - Waterbeheergebieden
B11: K01 - Klimaatbeheergebieden
D12: Totaal jaarbedrag 2026 | F12: =SUM(F7:F11) -> 0
A16: Uitbreiding 2027: prioritaire gebieden [budget A] | B16: A11 - Open grasland | C16: =ROUNDUP($D16/1.15,2) -> 0 | F16: =D16*E16 -> 0
B17: A12 - Open akkerland | C17: =ROUNDUP($D17/1.15,2) -> 0 | F17: =D17*E17 -> 0
B18: A15 - Dooradering | C18: =ROUNDUP($D18/1.15,2) -> 0 | F18: =D18*E18 -> 0
B19: W01 - Waterbeheergebieden | C19: =ROUNDUP($D19/1.15,2) -> 0 | F19: =D19*E19 -> 0
B20: K01 - Klimaatbeheergebieden | C20: =ROUNDUP($D20/1.15,2) -> 0 | F20: =D20*E20 -> 0
D21: Totaal uitbreiding [budget A] | F21: =SUM(F16:F20) -> 0
A25: Uitbreiding 2027: extra doelen [budget B] | B25: A11 - Open grasland | C25: =ROUNDUP($D25/1.15,2) -> 0 | F25: =D25*E25 -> 0
B26: A12 - Open akkerland | C26: =ROUNDUP($D26/1.15,2) -> 0 | F26: =D26*E26 -> 0
B27: A15 - Dooradering | C27: =ROUNDUP($D27/1.15,2) -> 0 | F27: =D27*E27 -> 0
B28: W01 - Waterbeheergebieden | C28: =ROUNDUP($D28/1.15,2) -> 0 | F28: =D28*E28 -> 0
B29: K01 - Klimaatbeheergebieden | C29: =ROUNDUP($D29/1.15,2) -> 0 | F29: =D29*E29 -> 0
D30: Totaal uitbreiding [budget B] | F30: =SUM(F25:F29) -> 0
A34: Bedragen 2027 (gemiddeld per hectare en jaarbedrag) | B34: A11 - Open grasland | C34: =C7+C16+C25 -> 0 | D34: =D7+D16+D25 -> 0
B35: A12 - Open akkerland | C35: =C8+C17+C26 -> 0 | D35: =D8+D17+D26 -> 0
B36: A15 - Dooradering | C36: =C9+C18+C27 -> 0 | D36: =D9+D18+D27 -> 0
B37: W01 - Waterbeheergebieden | C37: =C10+C19+C28 -> 0 | D37: =D10+D19+D28 -> 0
B38: K01 - Klimaatbeheergebieden | C38: =C11+C20+C29 -> 0 | D38: =D11+D20+D29 -> 0
D39: Totaal jaarbedrag 2027 | F39: =SUM(F34:F38) -> 0
A43: Jaarbedragen | B43: Jaarbedrag 2023
B44: Jaarbedrag 2024
B45: Jaarbedrag 2025
B46: Jaarbedrag 2026
B47: Jaarbedrag 2027 | F47: =SUM(F39) -> 0
B48: Jaarbedrag 2028 (de bedragen van 2027 gelden ook voor het jaar 2028) | F48: =SUM(F39) -> 0
D50: Totaal bedragen periode 2023-2028 | F50: =SUM(F43:F48) -> 0
A54: Kleurenlegenda
A55: In te vullen door het collectief uit lopende beschikking
A56: In te vullen door het collectief: uitbreiding prioritaire gebieden
A57: In te vullen door het collectief: uitbreiding extra doelen
A58: In te vullen door het collectief: gemiddeld bedrag per hectare en jaarbedrag per leefgebied 2027
A59: Automatische berekening

Sheet Tabblad_2_OpenGrasland
B1: Rekenformulier gebiedsaanvraag ANLb 2027
B3: Tabblad 2 - Open grasland A11
B6: Aangevraagde uitbreiding 2027 | C6: Minimum hectares | D6: Maximum hectares | E6: Gemiddeld bedrag per hectare | F6: Totaal subsidie bedrag uitbreiding per jaar | G6: Subsidiebedrag uitbreiding per leefgebied 2027 en 2028
B7: A: prioritaire gebieden | C7: =Tabblad_1_Gebiedsaanvraag2027!C16 -> 0 | D7: =Tabblad_1_Gebiedsaanvraag2027!D16 -> 0 | E7: =Tabblad_1_Gebiedsaanvraag2027!E16 -> 0 | F7: =Tabblad_1_Gebiedsaanvraag2027!F16 -> 0 | G7: =F7*2 -> 0
B8: B: extra doelen | C8: =Tabblad_1_Gebiedsaanvraag2027!C25 -> 0 | D8: =Tabblad_1_Gebiedsaanvraag2027!D25 -> 0 | E8: =Tabblad_1_Gebiedsaanvraag2027!E25 -> 0 | F8: =Tabblad_1_Gebiedsaanvraag2027!F25 -> 0 | G8: =F8*2 -> 0
B9: Totaal | C9: =C7+C8 -> 0 | D9: =D7+D8 -> 0 | F9: =F7+F8 -> 0 | G9: =G7+G8 -> 0
B13: Lopende beschikking per jaar | C13: =Tabblad_1_Gebiedsaanvraag2027!C7 -> 0 | D13: =Tabblad_1_Gebiedsaanvraag2027!D7 -> 0 | E13: =Tabblad_1_Gebiedsaanvraag2027!E7 -> 0 | F13: =Tabblad_1_Gebiedsaanvraag2027!F7 -> 0
B17: Jaarbedrag 2023 leefgebied open grasland
B18: Jaarbedrag 2024 leefgebied open grasland
B19: Jaarbedrag 2025 leefgebied open grasland
B20: Jaarbedrag 2026 leefgebied open grasland
B21: Jaarbedrag 2027 leefgebied open grasland | C21: =Tabblad_1_Gebiedsaanvraag2027!F34 -> 0 | D21: (inclusief uitbreiding)
B22: Jaarbedrag 2028 leefgebied open grasland | C22: =Tabblad_1_Gebiedsaanvraag2027!F34 -> 0 | D22: (inclusief uitbreiding)
C23: =SUM(C17:C22) -> 0 | D23: Totaalbedrag subsidie voor het leefgebied 2023 t/m 2028
B27: Gemiddeld bedrag per hectare per jaar (op basis van een onderbouwing per beheerfunctie)
B28: Beheerfuncties | E28: Hectares | F28: Gemiddeld hectare-bedrag | G28: Subsidiebedrag | H28: Gemiddeld hectare-bedrag
B29: Optimaliseren fourageer- en broed- en opgroeimogelijkheden | C29: lopende beschikking | H29: =ROUND((G29+G30)/(E29+E30),2) -> #DIV/0!
B30: Creëren nat biotoop
B31: F01.12 - Optimaliseren foerageer-, en broed- en opgroeimogelijkheden (nieuw in prioritaire gebieden) | C31: A: prioritaire gebieden | H31: =ROUND((G31+G32)/(E31+E32),2) -> #DIV/0!
B32: F01.15 - Creëren nat biotoop (nieuw in prioritaire gebieden)
B33: F01.12 - Optimaliseren foerageer-, en broed- en opgroeimogelijkheden (nieuw extra budget) | C33: B: extra doelen | H33: =ROUND((G33+G34)/(E33+E34),2) -> #DIV/0!
B34: F01.15 - Creëren nat biotoop (nieuw extra budget)
D35: Totaal | E35: =SUM(E29:E34) -> 0 | G35: =SUM(G29:G34) -> 0
B39: Controle gemiddeld bedrag
B40: Controle gemiddeld bedrag= totaal subsidiebedrag / maximum hectares | F40: =G35/E35 -> #DIV/0! | G40: Gemiddeld bedrag per leefgebied per jaar
B44: Verschilanalyse tussen jaarbedragen:
C45: Totaal jaarbedrag beheerfuncties | F45: =G35 -> 0
C46: Berekend jaarbedrag 2027 (uit tabblad_1) | F46: =Tabblad_1_Gebiedsaanvraag2027!F34 -> 0
E47: Verschil | F47: =F45-F46 -> 0
B51: Aansluiting kostenonderbouwing met jaarbedrag (verschilanalyse / maximum hectares)
D52: =F47/E35 -> #DIV/0! | E52: is: | F52: Afwijking
D53: 0.01 | E53: is: | F53: Maximaal toegestane afwijking
D54: =IF(ABS(D52)<=D53,"correct","niet correct") -> #DIV/0! | E54: is: | F54: Resultaat van controle
A58: Kleurenlegenda
A59: In te vullen door het collectief uit lopende beschikking
A60: In te vullen door het collectief: uitbreiding prioritaire gebieden
A61: In te vullen door het collectief: uitbreiding extra doelen
A62: Automatische berekening

Sheet Tabblad_3_OpenAkkerland
B1: Rekenformulier gebiedsaanvraag ANLb 2027
B3: Tabblad 3 - Open akkerland A12
B6: Aangevraagde uitbreiding 2027 | C6: Minimum hectares | D6: Maximum hectares | E6: Gemiddeld bedrag per hectare | F6: Totaal subsidie bedrag uitbreiding per jaar | G6: Subsidiebedrag uitbreiding per leefgebied 2027 en 2028
B7: A: prioritaire gebieden | C7: =Tabblad_1_Gebiedsaanvraag2027!C17 -> 0 | D7: =Tabblad_1_Gebiedsaanvraag2027!D17 -> 0 | E7: =Tabblad_1_Gebiedsaanvraag2027!E17 -> 0 | F7: =Tabblad_1_Gebiedsaanvraag2027!F17 -> 0 | G7: =F7*2 -> 0
B8: B: extra doelen | C8: =Tabblad_1_Gebiedsaanvraag2027!C26 -> 0 | D8: =Tabblad_1_Gebiedsaanvraag2027!D26 -> 0 | E8: =Tabblad_1_Gebiedsaanvraag2027!E26 -> 0 | F8: =Tabblad_1_Gebiedsaanvraag2027!F26 -> 0 | G8: =F8*2 -> 0
B9: Totaal | C9: =C7+C8 -> 0 | D9: =D7+D8 -> 0 | F9: =F7+F8 -> 0 | G9: =G7+G8 -> 0
B13: Lopende beschikking per jaar | C13: =Tabblad_1_Gebiedsaanvraag2027!C8 -> 0 | D13: =Tabblad_1_Gebiedsaanvraag2027!D8 -> 0 | E13: =Tabblad_1_Gebiedsaanvraag2027!E8 -> 0 | F13: =Tabblad_1_Gebiedsaanvraag2027!F8 -> 0
B17: Jaarbedrag 2023 leefgebied open akkerland
B18: Jaarbedrag 2024 leefgebied open akkerland
B19: Jaarbedrag 2025 leefgebied open akkerland
B20: Jaarbedrag 2026 leefgebied open akkerland
B21: Jaarbedrag 2027 leefgebied open akkerland | C21: =Tabblad_1_Gebiedsaanvraag2027!F35 -> 0 | D21: (inclusief uitbreiding)
B22: Jaarbedrag 2028 leefgebied open akkerland | C22: =Tabblad_1_Gebiedsaanvraag2027!F35 -> 0 | D22: (inclusief uitbreiding)
C23: =SUM(C17:C22) -> 0 | D23: Totaalbedrag subsidie voor het leefgebied 2023 t/m 2028
B27: Gemiddeld bedrag per hectare per jaar (op basis van een onderbouwing per beheerfunctie)
B28: Beheerfuncties | E28: Hectares | F28: Gemiddeld hectare-bedrag | G28: Subsidiebedrag | H28: Gemiddeld hectare-bedrag
B29: Creëren foerageergebied | C29: lopende beschikking | H29: =ROUND((G29+G30)/(E29+E30),2) -> #DIV/0!
B30: Optimaliseren voortplantingsmogelijkheden
B31: Creëren foerageergebied (uitbreiding in prioritaire gebieden) | C31: A: prioritaire gebieden | H31: =ROUND((G31+G32)/(E31+E32),2) -> #DIV/0!
B32: Optimaliseren voortplantingsmogelijkheden (uitbreiding in prioritaire gebieden)
B33: Creëren foerageergebied (uitbreiding extra doelen) | C33: B: extra doelen | H33: =ROUND((G33+G34)/(E33+E34),2) -> #DIV/0!
B34: Optimaliseren voortplantingsmogelijkheden (uitbreiding extra doelen)
D35: Totaal | E35: =SUM(E29:E34) -> 0 | G35: =SUM(G29:G34) -> 0
B39: Controle gemiddeld bedrag
B40: Controle gemiddeld bedrag= totaal subsidiebedrag / maximum hectares | F40: =G35/E35 -> #DIV/0! | G40: Gemiddeld bedrag per leefgebied per jaar
B44: Verschilanalyse tussen jaarbedragen:
C45: Totaal jaarbedrag beheerfuncties | F45: =G35 -> 0
C46: Berekend jaarbedrag 2027 (uit tabblad_1) | F46: =Tabblad_1_Gebiedsaanvraag2027!F35 -> 0
E47: Verschil | F47: =F45-F46 -> 0
B51: Aansluiting kostenonderbouwing met jaarbedrag (verschilanalyse / maximum hectares)
D52: =F47/E35 -> #DIV/0! | E52: is: | F52: Afwijking
D53: 0.01 | E53: is: | F53: Maximaal toegestane afwijking
D54: =IF(ABS(D52)<=D53,"correct","niet correct") -> #DIV/0! | E54: is: | F54: Resultaat van controle
A58: Kleurenlegenda
A59: In te vullen door het collectief uit lopende beschikking
A60: In te vullen door het collectief: uitbreiding prioritaire gebieden
A61: In te vullen door het collectief: uitbreiding extra doelen
A62: Automatische berekening

Sheet Tabblad_4_Dooradering
B1: Rekenformulier gebiedsaanvraag ANLb 2027
B3: Tabblad 4 - Dooradering A15
B6: Aangevraagde uitbreiding 2027 | C6: Minimum hectares | D6: Maximum hectares | E6: Gemiddeld bedrag per hectare | F6: Totaal subsidie bedrag uitbreiding per jaar | G6: Subsidiebedrag uitbreiding per leefgebied 2027 en 2028
B7: A: prioritaire gebieden | C7: =Tabblad_1_Gebiedsaanvraag2027!C18 -> 0 | D7: =Tabblad_1_Gebiedsaanvraag2027!D18 -> 0 | E7: =Tabblad_1_Gebiedsaanvraag2027!E18 -> 0 | F7: =Tabblad_1_Gebiedsaanvraag2027!F18 -> 0 | G7: =F7*2 -> 0
B8: B: extra doelen | C8: =Tabblad_1_Gebiedsaanvraag2027!C27 -> 0 | D8: =Tabblad_1_Gebiedsaanvraag2027!D27 -> 0 | E8: =Tabblad_1_Gebiedsaanvraag2027!E27 -> 0 | F8: =Tabblad_1_Gebiedsaanvraag2027!F27 -> 0 | G8: =F8*2 -> 0
B9: Totaal | C9: =C7+C8 -> 0 | D9: =D7+D8 -> 0 | F9: =F7+F8 -> 0 | G9: =G7+G8 -> 0
B13: Lopende beschikking per jaar | C13: =Tabblad_1_Gebiedsaanvraag2027!C9 -> 0 | D13: =Tabblad_1_Gebiedsaanvraag2027!D9 -> 0 | E13: =Tabblad_1_Gebiedsaanvraag2027!E9 -> 0 | F13: =Tabblad_1_Gebiedsaanvraag2027!F9 -> 0
B17: Jaarbedrag 2023 leefgebied dooradering
B18: Jaarbedrag 2024 leefgebied dooradering
B19: Jaarbedrag 2025 leefgebied dooradering
B20: Jaarbedrag 2026 leefgebied dooradering
B21: Jaarbedrag 2027 leefgebied dooradering | C21: =Tabblad_1_Gebiedsaanvraag2027!F36 -> 0 | D21: (inclusief uitbreiding)
B22: Jaarbedrag 2028 leefgebied dooradering | C22: =Tabblad_1_Gebiedsaanvraag2027!F36 -> 0 | D22: (inclusief uitbreiding)
C23: =SUM(C17:C22) -> 0 | D23: Totaalbedrag subsidie voor het leefgebied 2023 t/m 2028
B27: Gemiddeld bedrag per hectare per jaar (op basis van een onderbouwing per beheerfunctie)
B28: Beheerfuncties | E28: Hectares | F28: Gemiddeld hectare-bedrag | G28: Subsidiebedrag | H28: Gemiddeld hectare-bedrag
B29: Optimaliseren fourageer- en broed- en opgroeimogelijkheden | C29: lopende beschikking | H29: =ROUND((G29+G30)/(E29+E30),2) -> #DIV/0!
B30: Verschralen
B31: F01.12 - Optimaliseren foerageer-, en broed- en opgroeimogelijkheden (uitbreiding prioritaire gebieden) | C31: A: prioritaire gebieden | H31: =ROUND((G31+G32)/(E31+E32),2) -> #DIV/0!
B32: Verschralen (uitbreiding in prioritaire gebieden)
B33: F01.12 - Optimaliseren foerageer-, en broed- en opgroeimogelijkheden (uitbreiding extra doelen) | C33: B: extra doelen | H33: =ROUND((G33+G34)/(E33+E34),2) -> #DIV/0!
B34: Verschralen (uitbreiding extra doelen)
D35: Totaal | E35: =SUM(E29:E34) -> 0 | G35: =SUM(G29:G34) -> 0
B39: Controle gemiddeld bedrag
B40: Controle gemiddeld bedrag= totaal subsidiebedrag / maximum hectares | F40: =G35/E35 -> #DIV/0! | G40: Gemiddeld bedrag per leefgebied per jaar
B44: Verschilanalyse tussen jaarbedragen:
C45: Totaal jaarbedrag beheerfuncties | F45: =G35 -> 0
C46: Berekend jaarbedrag 2027 (uit tabblad_1) | F46: =Tabblad_1_Gebiedsaanvraag2027!F36 -> 0
E47: Verschil | F47: =F45-F46 -> 0
B51: Aansluiting kostenonderbouwing met jaarbedrag (verschilanalyse / maximum hectares)
D52: =F47/E35 -> #DIV/0! | E52: is: | F52: Afwijking
D53: 0.01 | E53: is: | F53: Maximaal toegestane afwijking
D54: =IF(ABS(D52)<=D53,"correct","niet correct") -> #DIV/0! | E54: is: | F54: Resultaat van controle
A58: Kleurenlegenda
A59: In te vullen door het collectief uit lopende beschikking
A60: In te vullen door het collectief: uitbreiding prioritaire gebieden
A61: In te vullen door het collectief: uitbreiding extra doelen
A62: Automatische berekening

Sheet Tabblad_5_Waterbeheergebieden
B1: Rekenformulier gebiedsaanvraag ANLb 2027
B3: Tabblad 5 - Waterbeheergebieden W01
B6: Aangevraagde uitbreiding 2027 | C6: Minimum hectares | D6: Maximum hectares | E6: Gemiddeld bedrag per hectare | F6: Totaal subsidie bedrag uitbreiding per jaar | G6: Subsidiebedrag uitbreiding per leefgebied 2027 en 2028
B7: A: prioritaire gebieden | C7: =Tabblad_1_Gebiedsaanvraag2027!C19 -> 0 | D7: =Tabblad_1_Gebiedsaanvraag2027!D19 -> 0 | E7: =Tabblad_1_Gebiedsaanvraag2027!E19 -> 0 | F7: =Tabblad_1_Gebiedsaanvraag2027!F19 -> 0 | G7: =F7*2 -> 0
B8: B: extra doelen | C8: =Tabblad_1_Gebiedsaanvraag2027!C28 -> 0 | D8: =Tabblad_1_Gebiedsaanvraag2027!D28 -> 0 | E8: =Tabblad_1_Gebiedsaanvraag2027!E28 -> 0 | F8: =Tabblad_1_Gebiedsaanvraag2027!F28 -> 0 | G8: =F8*2 -> 0
B9: Totaal | C9: =C7+C8 -> 0 | D9: =D7+D8 -> 0 | F9: =F7+F8 -> 0 | G9: =G7+G8 -> 0
B13: Lopende beschikking per jaar | C13: =Tabblad_1_Gebiedsaanvraag2027!C10 -> 0 | D13: =Tabblad_1_Gebiedsaanvraag2027!D10 -> 0 | E13: =Tabblad_1_Gebiedsaanvraag2027!E10 -> 0 | F13: =Tabblad_1_Gebiedsaanvraag2027!F10 -> 0
B17: Jaarbedrag 2023 leefgebied waterbeheergebieden
B18: Jaarbedrag 2024 leefgebied waterbeheergebieden
B19: Jaarbedrag 2025 leefgebied waterbeheergebieden
B20: Jaarbedrag 2026 leefgebied waterbeheergebieden
B21: Jaarbedrag 2027 leefgebied waterbeheergebieden | C21: =Tabblad_1_Gebiedsaanvraag2027!F37 -> 0 | D21: (inclusief uitbreiding)
B22: Jaarbedrag 2028 leefgebied waterbeheergebieden | C22: =Tabblad_1_Gebiedsaanvraag2027!F37 -> 0 | D22: (inclusief uitbreiding)
C23: =SUM(C17:C22) -> 0 | D23: Totaalbedrag subsidie voor het leefgebied 2023 t/m 2028
B27: Gemiddeld bedrag per hectare per jaar (op basis van een onderbouwing per beheerfunctie)
B28: Beheerfuncties | E28: Hectares | F28: Gemiddeld hectare-bedrag | G28: Subsidiebedrag | H28: Gemiddeld hectare-bedrag
B29: Waterbergen | C29: lopende beschikking | H29: =ROUND(SUM(G29:G33)/SUM(E29:E33),2) -> #DIV/0!
B30: Vernatting
B31: Water vasthouden
B32: Verbeteren chemische waterkwaliteit
B33: Verbeteren ecologische waterkwaliteit
B34: Waterbergen (uitbreiding prioritaire gebieden) | C34: A: prioritaire gebieden | H34: =ROUND(SUM(G34:G38)/SUM(E34:E38),2) -> #DIV/0!
B35: Vernatting (uitbreiding prioritaire gebieden)
B36: Water vasthouden (uitbreiding prioritaire gebieden)
B37: Verbeteren chemische waterkwaliteit (uitbreiding prioritaire gebieden)
B38: Verbeteren ecologische waterkwaliteit (uitbreiding prioritaire gebieden)
B39: Waterbergen (uitbreiding extra doelen) | C39: B: extra doelen | H39: =ROUND(SUM(G39:G43)/SUM(E39:E43),2) -> #DIV/0!
B40: Vernatting (uitbreiding extra doelen)
B41: Water vasthouden (uitbreiding extra doelen)
B42: Verbeteren chemische waterkwaliteit (uitbreiding extra doelen)
B43: Verbeteren ecologische waterkwaliteit (uitbreiding extra doelen)
D44: Totaal | E44: =SUM(E29:E43) -> 0 | G44: =SUM(G29:G43) -> 0
B48: Controle gemiddeld bedrag
B49: Controle gemiddeld bedrag= totaal subsidiebedrag / maximum hectares | F49: =G44/E44 -> #DIV/0! | G49: Gemiddeld bedrag per leefgebied per jaar
B53: Verschilanalyse tussen jaarbedragen:
C54: Totaal jaarbedrag beheerfuncties | F54: =G44 -> 0
C55: Berekend jaarbedrag 2027 (uit tabblad_1) | F55: =Tabblad_1_Gebiedsaanvraag2027!F37 -> 0
E56: Verschil | F56: =F54-F55 -> 0
B60: Aansluiting kostenonderbouwing met jaarbedrag (verschilanalyse / maximum hectares)
D61: =F56/E44 -> #DIV/0! | E61: is: | F61: Afwijking
D62: 0.01 | E62: is: | F62: Maximaal toegestane afwijking
D63: =IF(ABS(D61)<=D62,"correct","niet correct") -> #DIV/0! | E63: is: | F63: Resultaat van controle
A67: Kleurenlegenda
A68: In te vullen door het collectief uit lopende beschikking
A69: In te vullen door het collectief: uitbreiding prioritaire gebieden
A70: In te vullen door het collectief: uitbreiding extra doelen
A71: Automatische berekening

Sheet Tabblad_6_Klimaatbeheergebieden
B1: Rekenformulier gebiedsaanvraag ANLb 2027
B3: Tabblad 6 - Klimaatbeheergebieden K01
B6: Aangevraagde uitbreiding 2027 | C6: Minimum hectares | D6: Maximum hectares | E6: Gemiddeld bedrag per hectare | F6: Totaal subsidie bedrag uitbreiding per jaar | G6: Subsidiebedrag uitbreiding per leefgebied 2027 en 2028
B7: A: prioritaire gebieden | C7: =Tabblad_1_Gebiedsaanvraag2027!C20 -> 0 | D7: =Tabblad_1_Gebiedsaanvraag2027!D20 -> 0 | E7: =Tabblad_1_Gebiedsaanvraag2027!E20 -> 0 | F7: =Tabblad_1_Gebiedsaanvraag2027!F20 -> 0 | G7: =F7*2 -> 0
B8: B: extra doelen | C8: =Tabblad_1_Gebiedsaanvraag2027!C29 -> 0 | D8: =Tabblad_1_Gebiedsaanvraag2027!D29 -> 0 | E8: =Tabblad_1_Gebiedsaanvraag2027!E28 -> 0 | F8: =Tabblad_1_Gebiedsaanvraag2027!F29 -> 0 | G8: =F8*2 -> 0
B9: Totaal | C9: =C7+C8 -> 0 | D9: =D7+D8 -> 0 | F9: =F7+F8 -> 0 | G9: =G7+G8 -> 0
B13: Lopende beschikking per jaar | C13: =Tabblad_1_Gebiedsaanvraag2027!C11 -> 0 | D13: =Tabblad_1_Gebiedsaanvraag2027!D11 -> 0 | E13: =Tabblad_1_Gebiedsaanvraag2027!E11 -> 0 | F13: =Tabblad_1_Gebiedsaanvraag2027!F11 -> 0
B17: Jaarbedrag 2023 leefgebied klimaatbeheergebieden
B18: Jaarbedrag 2024 leefgebied klimaatbeheergebieden
B19: Jaarbedrag 2025 leefgebied klimaatbeheergebieden
B20: Jaarbedrag 2026 leefgebied klimaatbeheergebieden
B21: Jaarbedrag 2027 leefgebied klimaatbeheergebieden | C21: =Tabblad_1_Gebiedsaanvraag2027!F38 -> 0 | D21: (inclusief uitbreiding)
B22: Jaarbedrag 2028 leefgebied klimaatbeheergebieden | C22: =Tabblad_1_Gebiedsaanvraag2027!F38 -> 0 | D22: (inclusief uitbreiding)
C23: =SUM(C17:C22) -> 0 | D23: Totaalbedrag subsidie voor het leefgebied 2023 t/m 2028
B27: Gemiddeld bedrag per hectare per jaar (op basis van een onderbouwing per beheerfunctie)
B28: Beheerfuncties | E28: Hectares | F28: Gemiddeld hectare-bedrag | G28: Subsidiebedrag | H28: Gemiddeld hectare-bedrag
B29: Vastleggen CO2 | C29: lopende beschikking | H29: =ROUND(SUM(G29:G33)/SUM(E29:E33),2) -> #DIV/0!
B30: Reduceren uitstoot broeikasgassen
B31: Vernatten
B32: Opvangen waterpieken en droogte
B33: Omgaan met verzilting
B34: Vastleggen CO2 (uitbreiding in prioritaire gebieden) | C34: A: prioritaire gebieden | H34: =ROUND(SUM(G34:G38)/SUM(E34:E38),2) -> #DIV/0!
B35: Reduceren uitstoot broeikasgassen (uitbreiding in prioritaire gebieden)
B36: Vernatten (uitbreiding in prioritaire gebieden)
B37: Opvangen waterpieken en droogte (uitbreiding in prioritaire gebieden)
B38: Omgaan met verzilting (uitbreiding in prioritaire gebieden)
B39: Vastleggen CO2 (uitbreiding extra doelen) | C39: B: extra doelen | H39: =ROUND(SUM(G39:G43)/SUM(E39:E43),2) -> #DIV/0!
B40: Reduceren uitstoot broeikasgassen (uitbreiding extra doelen)
B41: Vernatten (uitbreiding extra doelen)
B42: Opvangen waterpieken en droogte (uitbreiding extra doelen)
B43: Omgaan met verzilting (uitbreiding extra doelen)
D44: Totaal | E44: =SUM(E29:E43) -> 0 | G44: =SUM(G29:G43) -> 0
B48: Controle gemiddeld bedrag
B49: Controle gemiddeld bedrag= totaal subsidiebedrag / maximum hectares | F49: =G44/E44 -> #DIV/0! | G49: Gemiddeld bedrag per leefgebied per jaar
B53: Verschilanalyse tussen jaarbedragen:
C54: Totaal jaarbedrag beheerfuncties | F54: =G44 -> 0
C55: Berekend jaarbedrag 2027 (uit tabblad_1) | F55: =Tabblad_1_Gebiedsaanvraag2027!F38 -> 0
E56: Verschil | F56: =F54-F55 -> 0
B60: Aansluiting kostenonderbouwing met jaarbedrag (verschilanalyse / maximum hectares)
D61: =F56/E44 -> #DIV/0! | E61: is: | F61: Afwijking
D62: 0.01 | E62: is: | F62: Maximaal toegestane afwijking
D63: =IF(ABS(D61)<=D62,"correct","niet correct") -> #DIV/0! | E63: is: | F63: Resultaat van controle
A66: Kleurenlegenda
A67: In te vullen door het collectief uit lopende beschikking
A68: In te vullen door het collectief: uitbreiding prioritaire gebieden
A69: In te vullen door het collectief: uitbreiding extra doelen
A70: Automatische berekening

Sheet Tabblad_7_Toelichting
A1: Rekenformulier gebiedsaanvraag ANLb 2027
A3: Tabblad 7 - Toelichting op leefgebieden en beheerfuncties
A5: A11 | B5: Open grasland | C5: A11.01 | D5: Weidevogelgrasland in open landschap
C6: A11.02 | D6: Weidevogelland met riet of opgaande begroeiing
C7: A11.03 | D7: Open grasland voor overwinterende vogels
A8: A12 | B8: Open akkerland | C8: A12.01 | D8: Open akkerland voor broedende akkervogels
C9: A12.02 | D9: Open akkerland voor overwinterende akkervogels
C10: A12.03 | D10: Akkerland met hamsters
A11: A15 | B11: Dooradering | C11: A15.01 | D11: Bomenrij en singel
C12: A15.02 | D12: Struweel en ruigte
C13: A15.03 | D13: Watergang
C14: A15.04 | D14: Poel
A15: W01 | B15: Waterbeheergebieden | C15: W01.01 | D15: Agrarisch waterbeheergebied
A16: K01 | B16: Klimaatbeheergebieden | C16: K01.01A | D16: Agrarisch Klimaatbeheergebied
A18: Leefgebied en beheerfunctie
A19: Per leefgebied zijn een beperkt aantal beheerfuncties mogelijk. In tabel 1 staan de leefgebieden met de mogelijke beheerfuncties.
A21: Tabel 1: Leefgebieden met mogelijke beheerfuncties
A22: Leefgebied | C22: Beheerfunctie
A23: A11 | B23: Open grasland | C23: F01.12 | D23: Optimaliseren foerageer-, en broed- en opgroeimogelijkheden
C24: F01.15 | D24: Creëren nat biotoop
A25: A12 | B25: Open akkerland | C25: F01.11 | D25: Creëren foerageergebied
C26: F01.13 | D26: Optimaliseren voortplantingsmogelijkheden
A27: A15 | B27: Dooradering | C27: F01.12 | D27: Optimaliseren foerageer-, en broed- en opgroeimogelijkheden
C28: F01.14 | D28: Verschralen
A29: W01 | B29: Categorie water | C29: F02.11 | D29: Waterberging
C30: F02.13 | D30: Vernatting
C31: F02.14 | D31: Water vasthouden
C32: F02.15 | D32: Verbeteren chemische waterkwaliteit
C33: F02.16 | D33: Verbeteren ecologische waterkwaliteit
A34: K01 | B34: Categorie Klimaat | C34: F03.11 | D34: Vastleggen CO2
C35: F03.12 | D35: Reduceren Broeikasgassen
C36: F03.13 | D36: Vernatten
C37: F03.14 | D37: Opvangen waterpieken en droogte
C38: F03.15 | D38: Omgaan met verzilting
