Workbook
Name NLGEUR: 2.20371
Name Print_Area: '1.Aanschrijfbrief'!$A$1:$B$27
Name Print_Area: '2.Adressering'!$A$1:$A$41
Name Print_Area: '3.Toelichting'!$A$1:$D$327
Name Print_Area: '4.Informatie'!$A$1:$J$40
Name Print_Area: '5.Verdelingsmatrix lasten'!$A$1:$AN$177
Name Print_Area: '6.Verdelingsmatrix baten'!$A$1:$AP$175
Name Print_Area: '7.Balansstanden'!$B$1:$I$104
Name Print_Area: '8.Akkoordverklaring'!$A$1:$D$24
Name Print_Area: '9.Eindoordeel'!$A$1:$L$250

Sheet 1.Aanschrijfbrief
A6: Onderwerp | B6: Informatie voor derden (Iv3)
B8: Den Haag, juni 2025
B10: Geachte heer / mevrouw,
B12: In artikel 71 van het Besluit begroting en verantwoording provincies en gemeenten (BBV) en de Regeling vaststelling taakvelden en verstrekking informatie voor derden van18 april 2016 staat de gegevenslevering aan het CBS beschreven. Volgens deze voorschriften moet u financiële gegevens aan het CBS sturen in de vorm van een verdelingsmatrix en (op kwartaal- en jaarbasis) een overzicht van de balansstanden. Naast de financiële gegevens dient u een schriftelijke verklaring van het college in te sturen met betrekking tot de vereiste kwaliteit van deze gegevens.
B13: Het Iv3-model 2026 is inhoudelijk niet veranderd ten opzichte van het model 2025 van juni 2024. Zie voor de veranderingen tabblad '3.Toelichting'
B14: De gegevens moeten in JSON-formaat aangeleverd worden. Vanaf boekjaar 2026 is het verplicht om in JSON-formaat aan te leveren, het is niet meer mogelijk om in xlsx-formaat aan te leveren. Volg de instructies op www.cbs.nl/kredo om in JSON aan te leveren. Vanuit een deel van de financiële pakketten is het mogelijk om direct een JSON-bestand aan te maken. Indien dat met uw pakket (nog) niet kan, dan is ook mogelijk een Iv3-xlsx-bestand te converteren naar een JSON-bestand met de conversietool die beschikbaar is op www.cbs.nl/kredo. Gebruik altijd OCIDO om het JSON-bestand te controleren vóórdat u het verzendt naar het CBS. Voor meer informatie over de toezending, verwijs ik u naar het tabblad '2.Adressering'.
B15: Het CBS bewerkt de aangeleverde gegevens voor haar eigen statistische doeleinden. Daarnaast publiceert het CBS via open data de gegevens in onbewerkte vorm, zoals deze aan het CBS zijn verstrekt. Meer informatie hierover is opgenomen in het tabblad "3.Toelichting" onder het kopje "Open data".
B16: Voor vragen en/of opmerkingen over inhoudelijke Iv3-zaken kunt u contact opnemen met:
B17: Centraal Bureau voor de Statistiek
B18: Bureau Kredo
B19: tel. (070) 337 47 08
B20: www.cbs.nl/kredo
B21: kredo@cbs.nl
... B27: Directeur statistieken overheidsfinanciën en consumentenprijzen

Sheet 2.Adressering
A1: Toezending van de gegevens
A3: Voor de financiële informatie en de schriftelijke verklaring die u op begrotings-, kwartaal- en jaarrekeningbasis aan het CBS moet sturen, gelden de volgende tijdstippen:
A4: - voor de begroting is de uiterlijke inzendtermijn vóór 15 november van het jaar voorafgaand aan het
A5: begrotingsjaar
A6: - voor de kwartaallevering is de uiterlijke inzendtermijn één maand na afloop van het kwartaal
A7: - voor de jaarrekening is de uiterlijke inzendtermijn vóór 15 juli na afloop van het betreffende jaar
A9: Indien deze wettelijk vastgestelde deadline voor u niet haalbaar is, kunt u een verzoek tot uitstel indienen bij de minister van BZK, conform de procedure beschreven in de BZK-circulaire Informatie voor derden van 29 juni 2009.
A11: Met ingang van verslagjaar 2026 is JSON het standaardformaat voor de aanlevering van Iv3-inzendingen. Zie ook de meicirculaire van het ministerie van Binnenlandse Zaken.
A12: U kunt de Iv-3matrix (in JSON-formaat), de akkoordverklaring (in pdf-formaat) en in het geval van de kwartaallevering, de bijgestelde begroting (ook in JSON-formaat) samen in één zipfile uploaden via
A13: https://antwoord.cbs.nl
A14: Meer informatie over de inzending met gebruikmaking van het JSON-formaat kunt u vinden via:
A15: Procedure en middelen voor aanleveren iv3 in JSON-formaat | CBS
... A41: nnnn =provincienummer; dit nummer is te vinden in de opvraagbrief

Sheet 3.Toelichting
A1: Algemene toelichting bij de levering Informatie voor derden (Iv3).
A3: Volgens het Besluit Begroting en Verantwoording Provincies en Gemeenten (BBV), in het bijzonder artikel 71, en de Regeling vaststelling taakvelden en verstrekking informatie voor derden, dienen decentrale overheden het CBS financiële informatie te verschaffen op begrotings-, kwartaal- en jaarbasis.
A5: - | B5: Voor de begroting moeten de geraamde lasten en baten van de taakvelden en de geprognosticeerde balansmutaties, verbijzonderd naar de economische categorieën, worden aangeleverd.
A6: - | B6: Voor de kwartaalgegegevens moeten de gerealiseerde, gecumuleerde lasten en baten van de taakvelden en de balansmutaties, verbijzonderd naar de economische categorieën, worden aangeleverd, alsmede een overzicht van de financiële balansstanden.
A7: - | B7: Voor de jaarrekening moeten de gerealiseerde lasten en baten van de taakvelden en de balansmutaties, verbijzonderd naar de economische categorieën, worden aangeleverd, alsmede een overzicht van alle balansstanden.
A9: Het is de bedoeling dat u de in dit bestand bijgevoegde verdelingsmatrices voor baten, lasten en balansstanden (automatisch) vult met deze gegevens.
A11: De gevraagde informatie behoort te zijn voorzien van een ondertekende schriftelijke verklaring van het college (Regeling vaststelling taakvelden en verstrekking informatie voor derden, artikel 2, lid 1) dat de gegevens aan de gestelde eisen voldoen. Een voorbeeldmodel is opgenomen in het tabblad "8.Akkoordverklaring" in dit bestand.
A12: De informatie wordt pas als ontvangen beschouwd indien de verklaring van het college ook in het bezit van het CBS is.
A14: Dit gevulde bestand dient binnen de gestelde termijn naar het CBS te worden opgestuurd (zie voor versturing tabblad "2.Adressering"):
A15: - | B15: voor de begroting is de uiterlijke inzendtermijn vóór 15 november van het jaar voorafgaand aan het begrotingsjaar
A16: - | B16: voor de kwartaallevering is de uiterlijke inzendtermijn één maand na afloop van het kwartaal
A17: - | B17: voor de jaarrekening is de uiterlijke inzendtermijn vóór 15 juli na afloop van het betreffende jaar
A19: Na ontvangst van de bestanden (inclusief schriftelijke verklaring) toetst het CBS de informatie op plausibiliteit. Vervolgens zullen de resultaten van deze plausibiliteitcontrole teruggekoppeld worden naar het college.
A21: Dit bestand is bestemd voor alle inzendingen over 2026, dus voor zowel de rapportage begroting, als voor de rapportages kwartaal en jaar (zie het kopje "Eén opvraagbestand voor begrotingen, kwartaal- en jaarrekeningen")
A23: Wij verzoeken u de bedragen op te geven als positieve getallen (zowel lasten als baten) en in duizendtallen, bijv. € 23.810,- invullen als 24.
A25: Meer informatie kunt u vinden op : | C25: www.cbs.nl/kredo
A27: Eén opvraagbestand voor begrotingen, kwartaal- en jaarrekeningen
A29: Vanaf het boekjaar 2017 werkt het CBS met één opvraagbestand Iv3 voor zowel de rapportage begrotingen als kwartaal- en jaarrekeningen. In dit model zijn alle regels zichtbaar, ook indien, zoals bij de begrotingen en kwartaalrekeningen, niet alle tabbladen/posten hoeven te worden ingevuld. Omdat er niet langer sprake is van aparte opvraagbestanden voor begroting, kwartaalgegevens en jaarrekening, is een correcte naamgeving van de bestanden die u naar het CBS stuurt nog belangrijker dan voorheen. Zie het tabblad "2.Adressering".
A31: Interessante links voor vullen Iv3
A33: Als hulp bij het invullen van de matrices en balansstanden kan de volgende informatie van nut zijn:
A34: - | B34: Nadere toelichting van de taakvelden, categorieën en balansposten:
B35: Iv3-informatievoorschrift-2024 Provincies
A36: - | B36: Nadere toelichting van de taakvelden, categorieën en balansposten:
B37: vraagbaakiv3provincies.nl/
A38: - | B38: Trefwoordenlijsten inzake de heffingen, de categorieën en de balansposten:
B39: Trefwoordenlijsten
A40: - | B40: Voorbeelden van de wijze waarop u mutaties in voorzieningen kunt boeken.:
B41: Boekingen van voorzieningen
A42: - | B42: Beslisboom betreffende de rubricering van een betaling aan een andere partij binnen het kader van een (economische) transactie:
B43: Beslisboom economische categorieën
A44: - | B44: Notities van en/of gestelde vragen aan Commissie BBV naar onderwerp:
B45: Notities en vragen Commissie BBV
A47: Open data
A49: Het CBS stelt de onbewerkte Iv3-gegevens beschikbaar via open data. Het CBS hanteert hierbij het volgende publicatiebeleid. Het moment van beschikbaar stellen van Iv3-gegevens voor een verslagperiode is afhankelijk van de uiterste datum die geldt voor inzending aan het CBS van de Iv3-rapportage voor die verslagperiode. Voor de begroting is deze datum 14 november in het jaar voorafgaand aan het verslagjaar (j-1). Voor de kwartaalrekeningen van het eerste, tweede en derde kwartaal van jaar j is deze één maand na afloop van het kwartaal. Voor aanlevering van het vierde kwartaal van jaar j geldt een uiterste inzenddatum van 14 februari in het jaar volgend op het verslagjaar (j+1). Voor de jaarrekening is deze datum 14 juli in het jaar volgend op het verslagjaar (j+1).
A51: Alle voor een bepaalde verslagperiode ontvangen Iv3-gegevens worden tegelijkertijd beschikbaar gesteld. Dit gebeurt tien dagen na de uiterste inzenddatum. NB indien de berichtgever uiterlijk vijf dagen na de uiterste inzenddatum (nog) een (her)levering heeft gedaan, dan wordt die geplaatst.
A53: De berichtgever heeft daarnaast nog de gelegenheid een verbeterde versie van zijn Iv3-gegevens in te sturen. Dit kan tot uiterlijk twee maanden na de uiterste inzenddatum die gold voor de betreffende periode. Deze versie wordt vervolgens zeventig dagen na de uiterste inzenddatum beschikbaar gesteld. Voor beide publicatiedatums geldt dat indien de betreffende dag in het weekend of op een feestdag valt, de data op de eerstvolgende werkdag beschikbaar worden gesteld.
A54: Meer informatie vindt u op:
A55: https://www.cbs.nl/nl-nl/onze-diensten/open-data/iv3
A56: Via website Data Financiën Decentrale Overheden kunt u de financiële informatie eenvoudig tussen meerdere provincies vergelijken. Meer informatie vindt u op:
A57: https://www.findo.nl/
...

Sheet 4.Informatie
B1: Vragenlijst
B2: Informatie voor derden (iv3) volgens het BBV
B3: ="Provincie: " & C5 -> Provincie: aaaa
B5: Naam | C5: aaaa | H5: Bestandsnaam: | I5: =IF(OR(C5 = "aaaa",C6="0000"),"Gegevens invullen!","KRD"&RIGHT(C7,2)&C8&"03"&C6&".xlsx") -> Gegevens invullen!
B6: Nummer | C6: 0000 | F6: =CONCATENATE(IF(ISERROR(_xlfn.NUMBERVALUE(C6)), "Overheidsnummer moet numeriek zijn!", "")," ", IF(LEN(C6)<>4, "Overheidsnummer moet uit 4 cijfers bestaan!", ""), IF(C6="0000", "Overheidsnummer 4 cijfers svp invullen", "")) -> Overheidsnummer 4 cijfers svp invullen
B7: Jaar | C7: 2026
B8: Periode | C8: 3 | F8: 0 = begroting, 1 - 4 = kwartalen, 5 = jaarrekening
C9: LET OP DE PERIODE!
B11: Contactgegevens: | C11: Let op: de contactgegevens zijn van degene waarmee rechtstreeks contact kan worden opgenomen bij inhoudelijke vragen en hoeven niet gelijk te zijn aan die van de officiële, bij het ministerie van BZK geregistreerde contactpersoon
B12: Naam:
B13: Afdeling:
B14: Functie:
B15: Telefoon:
B16: E-mail:
B17: Datum:
B20: Ruimte voor toelichting
B40: Boekwinst/verlies bij verkoop financiële vaste activa (bv. effecten) en (im)materiële vaste activa ¹
B41: Taakveld(code) | C41: Boekwinst/-verlies | D41: Toelichting
C42: x € 1000,-
B47: ¹ Voor meer informatie: zie blad "3.Toelichting" onder het kopje "Informatie provincie"

Sheet 5.Verdelingsmatrix lasten
A1: ="Verdelingsmatrix provincie "&'4.Informatie'!C5&" ("&'4.Informatie'!C6&"): "&'4.Informatie'!C7&" periode "&'4.Informatie'!C8&", lasten" -> Verdelingsmatrix provincie aaaa (0000): 2026 periode 3, lasten | C1: 1.1 | D1: 2.1 | E1: 3.1 | F1: 3.2 | G1: 3.3 | H1: 3.4.1 | I1: 3.5.1 | J1: 3.8 | K1: 4.1.1 | L1: 4.2 | M1: 4.3.1 | N1: 4.3.2 | O1: 4.3.3 | P1: 4.3.4 | Q1: 4.3.5 | R1: 4.3.6 | S1: 4.3.7 | T1: 4.3.8 | U1: 4.3.9 | V1: 4.4.9 | W1: 4.5.1 | X1: 4.5.2 | Y1: 4.5.3 | Z1: 4.5.4 | AA1: 4.5.5 | AB1: 4.5.6 | AC1: 4.5.7 | AD1: 4.5.8 | AE1: 4.6.6 | AF1: 4.6.8 | AG1: 5.1 | AH1: 6.1 | AI1: 7.1 | AJ1: 7.2 | AK1: 7.3 | AL1: 7.4 | AM1: 7.5
A2: Taakvelden | B2: Categorieën | C2: Salarissen en sociale lasten | D2: Belastingen | E2: Grond | F2: Duurzame goederen | G2: Pachten | H2: Sociale uitkeringen in natura | I2: Ingeleend personeel | J2: Overige goederen en diensten | K2: Sociale uitkeringen in geld | L2: Subsidies | M2: Inkomensoverdrachten - Rijk | N2: Inkomensoverdrachten - gemeenten | O2: Inkomensoverdrachten - gemeenschappelijke regelingen | P2: Inkomensoverdrachten - provincies | Q2: Inkomensoverdrachten - waterschappen | R2: Inkomensoverdrachten - overige overheden | S2: Inkomensoverdrachten - Europese Unie | T2: Inkomensoverdrachten - overige instellingen en personen | U2: Inkomensoverdrachten - onverdeeld | V2: Kapitaaloverdrachten -onverdeeld | W2: Investeringsbijdragen - Rijk | X2: Investeringsbijdragen - gemeenten | Y2: Investeringsbijdragen - gemeenschappelijke regelingen | Z2: Investeringsbijdragen - provincies | AA2: Investeringsbijdragen - waterschappen | AB2: Investeringsbijdragen - overige overheden | AC2: Investeringsbijdragen - Europese Unie | AD2: Investeringsbijdragen - overige instellingen en personen | AE2: Overige kapitaaloverdrachten - overheid | AF2: Overige kapitaaloverdrachten - overige instellingen en personen | AG2: Rente | AH2: Financiële transacties | AI2: Mutatie reserves | AJ2: Mutatie voorzieningen | AK2: Afschrijvingen | AL2: Toegerekende reële en bespaarde rente | AM2: Overige verrekeningen | AN2: Totaal taakvelden/balansmutaties
A4: Taakveld 0. | B4: =UPPER("Algemene dekkingsmiddelen") -> ALGEMENE DEKKINGSMIDDELEN
A5: 0.1 | B5: Uitkering provinciefonds | AN5: =SUM(C5:AM5) -> 0
A6: 0.2 | B6: Opbrengst provinciale belastingen | C6: 71 | J6: 1 | AN6: =SUM(C6:AM6) -> 72
A7: 0.3 | B7: Geldleningen en uitzettingen | J7: 20 | AG7: 86 | AN7: =SUM(C7:AM7) -> 106
A8: 0.4 | B8: Deelnemingen | C8: 50 | J8: 1 | AN8: =SUM(C8:AM8) -> 51
A9: 0.5 | B9: Algemene dekkingsmiddelen, overige baten en lasten | C9: -3 | F9: -16 | I9: -95 | J9: -2153 | M9: 86 | N9: -1044 | P9: -53 | R9: -998 | T9: -4456 | AN9: =SUM(C9:AM9) -> -8732
A10: 0.6 | B10: Overhead | C10: 25141 | D10: 570 | F10: 1432 | I10: 543 | J10: 11822 | M10: 8 | N10: 1 | T10: 289 | AJ10: 2347 | AK10: 1604 | AN10: =SUM(C10:AM10) -> 43757
A11: 0.7 | B11: Vennootschapsbelasting | AN11: =SUM(C11:AM11) -> 0
A12: 0.8 | B12: Mutaties reserves | AI12: 40385 | AN12: =SUM(C12:AM12) -> 40385
A13: 0.9 | B13: Resultaat | AN13: =SUM(C13:AM13) -> 0
A14: Totaal Taakveld 0. | C14: =SUM(C5:C13) -> 25259 | D14: =SUM(D5:D13) -> 570 | E14: =SUM(E5:E13) -> 0 | F14: =SUM(F5:F13) -> 1416 | G14: =SUM(G5:G13) -> 0 | H14: =SUM(H5:H13) -> 0 | I14: =SUM(I5:I13) -> 448 | J14: =SUM(J5:J13) -> 9691 | ... AM14: =SUM(AM5:AM13) -> 0 | AN14: =SUM(C14:AM14) -> 75639
A16: Taakveld 1. | B16: BESTUUR
A17: 1.1 | B17: Provinciale Staten | C17: 2176 | F17: 138 | J17: 659 | T17: 1414 | AK17: 4 | AN17: =SUM(C17:AM17) -> 4391
A18: 1.2 | B18: Gedeputeerde Staten | C18: 858 | I18: 378 | J18: 275 | AN18: =SUM(C18:AM18) -> 1511
A19: 1.3 | B19: Kabinetszaken | C19: 2951 | F19: 1 | I19: 215 | J19: 68 | T19: 62 | AN19: =SUM(C19:AM19) -> 3297
A20: 1.4 | B20: Bestuurlijke organisatie | C20: 1447 | I20: -1 | J20: 40 | T20: 12 | AN20: =SUM(C20:AM20) -> 1498
A21: 1.5 | B21: Interbestuurlijk toezicht op de regio | J21: 2 | AN21: =SUM(C21:AM21) -> 2
A22: 1.6 | B22: Openbare orde en veiligheid | J22: 104 | R22: 775 | T22: 306 | AN22: =SUM(C22:AM22) -> 1185
A23: 1.9 | B23: Bestuur, overige baten en lasten | C23: 1955 | F23: 6 | I23: -1 | J23: 4237 | P23: 4 | T23: 52 | AN23: =SUM(C23:AM23) -> 6253
A24: Totaal Taakveld 1. | C24: =SUM(C17:C23) -> 9387 | D24: =SUM(D17:D23) -> 0 | E24: =SUM(E17:E23) -> 0 | F24: =SUM(F17:F23) -> 145 | G24: =SUM(G17:G23) -> 0 | H24: =SUM(H17:H23) -> 0 | I24: =SUM(I17:I23) -> 591 | J24: =SUM(J17:J23) -> 5385 | ... AM24: =SUM(AM17:AM23) -> 0 | AN24: =SUM(C24:AM24) -> 18137
A26: Taakveld 2. | B26: VERKEER EN VERVOER
A27: 2.1 | B27: Landwegen | C27: 8469 | F27: 1728 | I27: 29 | J27: 16508 | N27: 888 | O27: 28 | T27: 102 | AJ27: 43 | AK27: 11401 | AN27: =SUM(C27:AM27) -> 39196
A28: 2.2 | B28: Waterwegen | AN28: =SUM(C28:AM28) -> 0
A29: 2.3 | B29: Openbaar vervoer | C29: 816 | J29: 760 | M29: 17 | T29: 79541 | AD29: 8770 | AK29: 1448 | AN29: =SUM(C29:AM29) -> 91352
A30: 2.9 | B30: Verkeer en vervoer, overige baten en lasten | C30: 2198 | F30: 37 | I30: -1 | J30: 1220 | M30: 55 | N30: 1897 | P30: 6 | T30: 2170 | AK30: 62 | AN30: =SUM(C30:AM30) -> 7644
A31: Totaal Taakveld 2. | C31: =SUM(C27:C30) -> 11483 | D31: =SUM(D27:D30) -> 0 | E31: =SUM(E27:E30) -> 0 | F31: =SUM(F27:F30) -> 1765 | G31: =SUM(G27:G30) -> 0 | H31: =SUM(H27:H30) -> 0 | I31: =SUM(I27:I30) -> 28 | J31: =SUM(J27:J30) -> 18488 | ... AM31: =SUM(AM27:AM30) -> 0 | AN31: =SUM(C31:AM31) -> 138192
A33: Taakveld 3. | B33: WATER
A34: 3.1 | B34: Waterkeringen | C34: 1015 | F34: -7 | I34: 496 | J34: 1002 | N34: 176 | Q34: 110 | T34: 1685 | AN34: =SUM(C34:AM34) -> 4477
A35: 3.2 | B35: Kwantiteit oppervlaktewater | C35: 822 | J35: 28 | N35: 52 | T35: 345 | AK35: -19 | AN35: =SUM(C35:AM35) -> 1228
A36: 3.3 | B36: Kwantiteit grondwater | C36: 297 | F36: 6 | I36: 18 | J36: 223 | N36: 25 | AN36: =SUM(C36:AM36) -> 569
A37: 3.4 | B37: Kwaliteit oppervlaktewater | J37: 98 | AN37: =SUM(C37:AM37) -> 98
A38: 3.5 | B38: Kwaliteit grondwater | J38: 27 | T38: 482 | AN38: =SUM(C38:AM38) -> 509
A39: 3.9 | B39: Water, overige baten en lasten | C39: 1527 | I39: -1 | J39: 104 | N39: 2651 | T39: 2430 | X39: 340 | AN39: =SUM(C39:AM39) -> 7051
A40: Totaal Taakveld 3. | C40: =SUM(C34:C39) -> 3661 | D40: =SUM(D34:D39) -> 0 | E40: =SUM(E34:E39) -> 0 | F40: =SUM(F34:F39) -> -1 | G40: =SUM(G34:G39) -> 0 | H40: =SUM(H34:H39) -> 0 | I40: =SUM(I34:I39) -> 513 | J40: =SUM(J34:J39) -> 1482 | ... AM40: =SUM(AM34:AM39) -> 0 | AN40: =SUM(C40:AM40) -> 13932
A42: Taakveld 4. | B42: MILIEU
A43: 4.1 | B43: Bodembescherming | C43: 533 | I43: 2 | J43: 115 | P43: 9 | T43: 406 | AN43: =SUM(C43:AM43) -> 1065
A44: 4.2 | B44: Luchtverontreiniging | AN44: =SUM(C44:AM44) -> 0
A45: 4.3 | B45: Geluidhinder | C45: 74 | J45: 1 | AN45: =SUM(C45:AM45) -> 75
...

Sheet 6.Verdelingsmatrix baten
A1: ="Verdelingsmatrix provincie "&'4.Informatie'!C5&" ("&'4.Informatie'!C6&"): "&'4.Informatie'!C7&" periode "&'4.Informatie'!C8&", baten" -> Verdelingsmatrix provincie aaaa (0000): 2026 periode 3, baten | C1: 2.2.1 | D1: 2.2.2 | E1: 3.1 | F1: 3.2 | G1: 3.3 | H1: 3.4.2 | I1: 3.5.2 | J1: 3.6 | K1: 3.7 | L1: 3.8 | M1: 4.1.2 | N1: 4.3.1 | O1: 4.3.2 | P1: 4.3.3 | Q1: 4.3.4 | R1: 4.3.5 | S1: 4.3.6 | T1: 4.3.7 | U1: 4.3.8 | V1: 4.3.9 | W1: 4.4.9 | X1: 4.5.1 | Y1: 4.5.2 | Z1: 4.5.3 | AA1: 4.5.4 | AB1: 4.5.5 | AC1: 4.5.6 | AD1: 4.5.7 | AE1: 4.5.8 | AF1: 4.6.6 | AG1: 4.6.8 | AH1: 5.1 | AI1: 5.2 | AJ1: 6.1 | AK1: 7.1 | AL1: 7.2 | AM1: 7.3 | AN1: 7.4 | AO1: 7.5
A2: Taakvelden | B2: Categorieën | C2: Belastingen op producenten | D2: Belastingen op huishoudens | E2: Grond | F2: Duurzame goederen | G2: Pachten | H2: Eigen bijdragen en verhaal sociale uitkeringen in natura | I2: Uitgeleend personeel | J2: Huren | K2: Leges en andere rechten | L2: Overige goederen en diensten | M2: Verhaal sociale uitkeringen in geld | N2: Inkomensoverdrachten - Rijk | O2: Inkomensoverdrachten - gemeenten | P2: Inkomensoverdrachten - gemeenschappelijke regelingen | Q2: Inkomensoverdrachten - provincies | R2: Inkomensoverdrachten - waterschappen | S2: Inkomensoverdrachten - overige overheden | T2: Inkomensoverdrachten - Europese Unie | U2: Inkomensoverdrachten - overige instellingen en personen | V2: Inkomensoverdrachten - onverdeeld | W2: Kapitaaloverdrachten -onverdeeld | X2: Investeringsbijdragen - Rijk | Y2: Investeringsbijdragen - gemeenten | Z2: Investeringsbijdragen - gemeenschappelijke regelingen | AA2: Investeringsbijdragen - provincies | AB2: Investeringsbijdragen - waterschappen | AC2: Investeringsbijdragen - overige overheden | AD2: Investeringsbijdragen - Europese Unie | AE2: Investeringsbijdragen - overige instellingen en personen | AF2: Overige kapitaaloverdrachten - overheid | AG2: Overige kapitaaloverdrachten - overige instellingen en personen | AH2: Rente | AI2: Dividenden en winsten | AJ2: Financiële transacties | AK2: Mutatie reserves | AL2: Mutatie voorzieningen | AM2: Afschrijvingen | AN2: Toegerekende reële en bespaarde rente | AO2: Overige verrekeningen | AP2: Totaal taakvelden/balansmutaties
A4: Taakveld 0. | B4: =UPPER("Algemene dekkingsmiddelen") -> ALGEMENE DEKKINGSMIDDELEN
A5: 0.1 | B5: Uitkering provinciefonds | N5: 231406 | AP5: =SUM(C5:AO5) -> 231406
A6: 0.2 | B6: Opbrengst provinciale belastingen | D6: 95917 | AP6: =SUM(C6:AO6) -> 95917
A7: 0.3 | B7: Geldleningen en uitzettingen | AH7: 13048 | AP7: =SUM(C7:AO7) -> 13048
A8: 0.4 | B8: Deelnemingen | AI8: 16743 | AP8: =SUM(C8:AO8) -> 16743
A9: 0.5 | B9: Algemene dekkingsmiddelen, overige baten en lasten | D9: -337 | E9: 37 | F9: 7 | O9: 179 | Q9: 355 | T9: -197 | U9: 46 | AP9: =SUM(C9:AO9) -> 90
A10: 0.6 | B10: Overhead | I10: 1 | J10: 392 | L10: 247 | U10: 4 | X10: 5 | AP10: =SUM(C10:AO10) -> 649
A11: 0.7 | B11: Vennootschapsbelasting | AP11: =SUM(C11:AO11) -> 0
A12: 0.8 | B12: Mutaties reserves | AK12: 13583 | AP12: =SUM(C12:AO12) -> 13583
A13: 0.9 | B13: Resultaat | AP13: =SUM(C13:AO13) -> 0
A14: Totaal Taakveld 0. | C14: =SUM(C5:C13) -> 0 | D14: =SUM(D5:D13) -> 95580 | E14: =SUM(E5:E13) -> 37 | F14: =SUM(F5:F13) -> 7 | G14: =SUM(G5:G13) -> 0 | H14: =SUM(H5:H13) -> 0 | I14: =SUM(I5:I13) -> 1 | J14: =SUM(J5:J13) -> 392 | ... AO14: =SUM(AO5:AO13) -> 0 | AP14: =SUM(C14:AO14) -> 371436
A16: Taakveld 1. | B16: BESTUUR
A17: 1.1 | B17: Provinciale Staten | U17: 11 | AP17: =SUM(C17:AO17) -> 11
A18: 1.2 | B18: Gedeputeerde Staten | AP18: =SUM(C18:AO18) -> 0
A19: 1.3 | B19: Kabinetszaken | L19: 2 | AP19: =SUM(C19:AO19) -> 2
A20: 1.4 | B20: Bestuurlijke organisatie | AP20: =SUM(C20:AO20) -> 0
A21: 1.5 | B21: Interbestuurlijk toezicht op de regio | AP21: =SUM(C21:AO21) -> 0
A22: 1.6 | B22: Openbare orde en veiligheid | AP22: =SUM(C22:AO22) -> 0
A23: 1.9 | B23: Bestuur, overige baten en lasten | AP23: =SUM(C23:AO23) -> 0
A24: Totaal Taakveld 1. | C24: =SUM(C17:C23) -> 0 | D24: =SUM(D17:D23) -> 0 | E24: =SUM(E17:E23) -> 0 | F24: =SUM(F17:F23) -> 0 | G24: =SUM(G17:G23) -> 0 | H24: =SUM(H17:H23) -> 0 | I24: =SUM(I17:I23) -> 0 | J24: =SUM(J17:J23) -> 0 | ... AO24: =SUM(AO17:AO23) -> 0 | AP24: =SUM(C24:AO24) -> 13
A26: Taakveld 2. | B26: VERKEER EN VERVOER
A27: 2.1 | B27: Landwegen | K27: 36 | O27: 1 | Q27: 329 | AP27: =SUM(C27:AO27) -> 366
A28: 2.2 | B28: Waterwegen | AP28: =SUM(C28:AO28) -> 0
A29: 2.3 | B29: Openbaar vervoer | AP29: =SUM(C29:AO29) -> 0
A30: 2.9 | B30: Verkeer en vervoer, overige baten en lasten | O30: 744 | U30: 265 | AP30: =SUM(C30:AO30) -> 1009
A31: Totaal Taakveld 2. | C31: =SUM(C27:C30) -> 0 | D31: =SUM(D27:D30) -> 0 | E31: =SUM(E27:E30) -> 0 | F31: =SUM(F27:F30) -> 0 | G31: =SUM(G27:G30) -> 0 | H31: =SUM(H27:H30) -> 0 | I31: =SUM(I27:I30) -> 0 | J31: =SUM(J27:J30) -> 0 | ... AO31: =SUM(AO27:AO30) -> 0 | AP31: =SUM(C31:AO31) -> 1375
A33: Taakveld 3. | B33: WATER
A34: 3.1 | B34: Waterkeringen | O34: 139 | U34: 71 | AP34: =SUM(C34:AO34) -> 210
A35: 3.2 | B35: Kwantiteit oppervlaktewater | AP35: =SUM(C35:AO35) -> 0
A36: 3.3 | B36: Kwantiteit grondwater | AP36: =SUM(C36:AO36) -> 0
A37: 3.4 | B37: Kwaliteit oppervlaktewater | AP37: =SUM(C37:AO37) -> 0
A38: 3.5 | B38: Kwaliteit grondwater | AP38: =SUM(C38:AO38) -> 0
A39: 3.9 | B39: Water, overige baten en lasten | AP39: =SUM(C39:AO39) -> 0
A40: Totaal Taakveld 3. | C40: =SUM(C34:C39) -> 0 | D40: =SUM(D34:D39) -> 0 | E40: =SUM(E34:E39) -> 0 | F40: =SUM(F34:F39) -> 0 | G40: =SUM(G34:G39) -> 0 | H40: =SUM(H34:H39) -> 0 | I40: =SUM(I34:I39) -> 0 | J40: =SUM(J34:J39) -> 0 | ... AO40: =SUM(AO34:AO39) -> 0 | AP40: =SUM(C40:AO40) -> 210
A42: Taakveld 4. | B42: MILIEU
A43: 4.1 | B43: Bodembescherming | AP43: =SUM(C43:AO43) -> 0
A44: 4.2 | B44: Luchtverontreiniging | AP44: =SUM(C44:AO44) -> 0
A45: 4.3 | B45: Geluidhinder | AP45: =SUM(C45:AO45) -> 0
...

Sheet 7.Balansstanden
B1: ="Balansstandenoverzicht provincie "&'4.Informatie'!C5&" ("&'4.Informatie'!C6&"): "&"jaar "&'4.Informatie'!C7 -> Balansstandenoverzicht provincie aaaa (0000): jaar 2026
B2: Bedragen x € 1000,-
D3: Code | F3: 1 januari | H3: ultimo
B4: ACTIVA
B5: Vaste activa
B6: Immateriële vaste activa
B7: Kosten verbonden aan sluiten geldlening en saldo agio/disagio | D7: A111 | K7: Deze post hoeft niet te worden ingevuld bij de begrotingen en de kwartaalrapportage.
B8: Kosten onderzoek en ontwikkeling voor een bepaald actief | D8: A112 | F8: 4 | H8: 2 | K8: Deze post hoeft niet te worden ingevuld bij de begrotingen en de kwartaalrapportage.
B9: Bijdragen aan activa in eigendom van derden | D9: A113 | F9: 72463 | H9: 107845 | K9: Deze post hoeft niet te worden ingevuld bij de begrotingen en de kwartaalrapportage.
B10: Materiële vaste activa
B11: Gronden en terreinen | D11: A121 | F11: 39775 | H11: 39462 | K11: Deze post hoeft niet te worden ingevuld bij de begrotingen en de kwartaalrapportage.
B12: Woonruimten | D12: A122 | F12: 10 | H12: 10 | K12: Deze post hoeft niet te worden ingevuld bij de begrotingen en de kwartaalrapportage.
B13: Bedrijfsgebouwen | D13: A123 | F13: 24711 | H13: 22457 | K13: Deze post hoeft niet te worden ingevuld bij de begrotingen en de kwartaalrapportage.
B14: Grond-, weg- en waterbouwkundige werken | D14: A124 | F14: 326513 | H14: 332704 | K14: Deze post hoeft niet te worden ingevuld bij de begrotingen en de kwartaalrapportage.
B15: Vervoermiddelen | D15: A125 | K15: Deze post hoeft niet te worden ingevuld bij de begrotingen en de kwartaalrapportage.
B16: Machines, apparaten en installaties | D16: A126 | F16: 15878 | H16: 16353 | K16: Deze post hoeft niet te worden ingevuld bij de begrotingen en de kwartaalrapportage.
B17: Overig | D17: A129 | F17: 3042 | H17: 2972 | K17: Deze post hoeft niet te worden ingevuld bij de begrotingen en de kwartaalrapportage.
B18: Financiële vaste activa
B19: Kapitaalverstrekking aan deelnemingen | D19: A1311 | F19: 321246 | H19: 352203 | K19: Deze post hoeft niet te worden ingevuld bij de begrotingen
B20: Kapitaalverstrekking aan gemeenschappelijke regelingen | D20: A1312 | K20: Deze post hoeft niet te worden ingevuld bij de begrotingen
B21: Kapitaalverstrekking aan overige verbonden partijen | D21: A1313 | K21: Deze post hoeft niet te worden ingevuld bij de begrotingen
B22: Leningen aan woningbouwcorporaties | D22: A1321 | K22: Deze post hoeft niet te worden ingevuld bij de begrotingen
B23: Leningen aan deelnemingen | D23: A1322 | F23: 334578 | H23: 333027 | K23: Deze post hoeft niet te worden ingevuld bij de begrotingen
B24: Leningen aan overige verbonden partijen | D24: A1323 | F24: 1250 | H24: 1250 | K24: Deze post hoeft niet te worden ingevuld bij de begrotingen
B25: Overige langlopende leningen | D25: A1331b | F25: 250870 | H25: 287746 | K25: Deze post hoeft niet te worden ingevuld bij de begrotingen
B26: Langlopende leningen aan gemeenten (art. 1a Wet Fido) | D26: A1331c | F26: 385388 | H26: 359523 | K26: Deze post hoeft niet te worden ingevuld bij de begrotingen
B27: Langlopende leningen aan gemeenschappelijke regelingen (art. 1a Wet Fido) | D27: A1331d | K27: Deze post hoeft niet te worden ingevuld bij de begrotingen
B28: Langlopende leningen aan overige overheden (art. 1a Wet Fido) | D28: A1331e | F28: 28000 | H28: 27000 | K28: Deze post hoeft niet te worden ingevuld bij de begrotingen
B29: Uitzettingen in ’s Rijks schatkist met een looptijd ≥ 1 jaar | D29: A1332a | F29: 100000 | H29: 100000 | K29: Deze post hoeft niet te worden ingevuld bij de begrotingen
B30: Uitzettingen in de vorm van Nederlands schuldpapier met een looptijd ≥ 1 jaar | D30: A1332b | K30: Deze post hoeft niet te worden ingevuld bij de begrotingen
B31: Overige uitzettingen met een looptijd ≥ 1 jaar | D31: A1332c | F31: 233 | K31: Deze post hoeft niet te worden ingevuld bij de begrotingen
B32: Vlottende Activa
B33: Voorraden
B34: Overige grond- en hulpstoffen | D34: A212 | K34: Deze post hoeft niet te worden ingevuld bij de begrotingen en de kwartaalrapportage.
B35: Onderhanden werk (incl. bouwgronden in exploitatie) | D35: A213 | F35: 13028 | H35: 5758 | K35: Deze post hoeft niet te worden ingevuld bij de begrotingen en de kwartaalrapportage.
B36: Gereed product en handelsgoederen | D36: A214 | F36: 23954 | H36: 25881 | K36: Deze post hoeft niet te worden ingevuld bij de begrotingen en de kwartaalrapportage.
B37: Vooruitbetalingen | D37: A215 | K37: Deze post hoeft niet te worden ingevuld bij de begrotingen en de kwartaalrapportage.
B38: Uitzettingen
B39: Vorderingen op gemeenten | D39: A221a | F39: 2143 | H39: 2493 | K39: Deze post hoeft niet te worden ingevuld bij de begrotingen
B40: Vorderingen op gemeenschappelijke regelingen | D40: A221b | K40: Deze post hoeft niet te worden ingevuld bij de begrotingen
...

Sheet 8.Akkoordverklaring
A1: =VLOOKUP('4.Informatie'!$C$8,'8.Akkoordverklaring'!$I$66:$J$72,2,0) -> Verklaring Iv3 bij kwartaalrapportage 2026, provincie aaaa | C1: Verklaring Iv3 bij kwartaalrapportage, gemeente | E1: <------ | F1: Waarde cel op basis van waarde in tabblad "4.Informatie".
A3: Aan het Centraal Bureau voor de Statistiek
A4: Conform het Besluit begroting en verantwoording provincies en gemeenten, in het bijzonder artikel 71 en de Regeling vaststelling taakvelden en verstrekking informatie voor derden van 18 april 2016, inclusief de wijzigingen hierop van 11 maart 2019 sturen wij u de vereiste informatie elektronisch toe.
A5: ="Het betreft de informatie over: "&VLOOKUP('4.Informatie'!$C$8,'8.Akkoordverklaring'!$I$67:$K$72,2,0) -> Het betreft de informatie over: Verklaring Iv3 bij kwartaalrapportage 2026, provincie aaaa | E5: <------ | F5: Waarde cel op basis van waarde in tabblad "4.Informatie".
A7: De verstrekte informatie geeft naar ons oordeel een getrouw beeld. Daarbij is meer in het bijzonder het volgende van toepassing:
A9: - | B9: De verdelingsmatrix is opgesteld overeenkomstig de indeling in de Regeling vaststelling taakvelden en verstrekking informatie van derden, inclusief de wijzigingen hierop van 11 maart 2019. Daarbij geldt dat:
B10: • | C10: De indeling van de baten en lasten in taakvelden is overeenkomstig de toelichting van de taakvelden in het "Iv3-informatievoorschrift Provincies" op de site van de Rijksoverheid, behorend bij de Regeling vaststelling taakvelden en verstrekking informatie voor derden.
B11: • | C11: De categoriale indeling van de baten en lasten is overeenkomstig de toelichting van de categorieën in het “Iv3-informatievoorschrift" op de site van de Rijksoverheid, behorend bij de Regeling vaststelling taakvelden en verstrekking informatie voor derden.
B12: • | C12: De balansmutaties zijn toegedeeld naar de categorieën overeenkomstig de toelichting in het "Iv3-informatievoorschrift" op de site van de Rijksoverheid, behorend bij de Regeling vaststelling taakvelden en verstrekking informatie voor derden, inclusief de wijzigingen hierop van 11 maart 2019.
A13: =IF('4.Informatie'!$C$8=0,"","-") -> - | B13: =VLOOKUP('4.Informatie'!$C$8,'8.Akkoordverklaring'!$I$67:$L$72,4,0) -> Het balansstandenoverzicht waarover in de kwartaalrapportage volgens artikel 2, lid 6 van de Regeling vaststelling taakvelden en verstrekking informatie voor derden, inclusief de wijzigingen hierop van 11 maart 2019 wordt gerapporteerd, is samengesteld volgens de voorschriften van het Besluit begroting en verantwoording gemeenten en provincies (artikelen 30 t/m 58) en de toelichting in het “Iv3-informatievoorschrift Provincies" op de site van de Rijksoverheid. | E13: <------ | F13: Waarde cel op basis van waarde in tabblad "4.Informatie". Bij begroting leeg!
A16: Het college van Gedeputeerde Staten,
A18: De commissaris, De secretaris,
J66: A1 | K66: A5 | L66: B13
I67: 0 | J67: ="Verklaring Iv3 bij begroting "&'4.Informatie'!$C$7&", provincie "&'4.Informatie'!$C$5 -> Verklaring Iv3 bij begroting 2026, provincie aaaa | K67: ="de begroting van het jaar "&'4.Informatie'!$C$7 -> de begroting van het jaar 2026
I68: 1 | J68: ="Verklaring Iv3 bij kwartaalrapportage "&'4.Informatie'!$C$7&", provincie "&'4.Informatie'!$C$5 -> Verklaring Iv3 bij kwartaalrapportage 2026, provincie aaaa | K68: ="het eerste kwartaal van het jaar "&'4.Informatie'!$C$7 -> het eerste kwartaal van het jaar 2026 | L68: Het balansstandenoverzicht waarover in de kwartaalrapportage volgens artikel 2, lid 6 van de Regeling vaststelling taakvelden en verstrekking informatie voor derden, inclusief de wijzigingen hierop van 11 maart 2019 wordt gerapporteerd, is samengesteld volgens de voorschriften van het Besluit begroting en verantwoording gemeenten en provincies (artikelen 30 t/m 58) en de toelichting in het “Iv3-informatievoorschrift Provincies" op de site van de Rijksoverheid.
I69: 2 | J69: ="Verklaring Iv3 bij kwartaalrapportage "&'4.Informatie'!$C$7&", provincie "&'4.Informatie'!$C$5 -> Verklaring Iv3 bij kwartaalrapportage 2026, provincie aaaa | K69: ="het tweede kwartaal van het jaar "&'4.Informatie'!$C$7 -> het tweede kwartaal van het jaar 2026 | L69: Het balansstandenoverzicht waarover in de kwartaalrapportage volgens artikel 2, lid 6 van de Regeling vaststelling taakvelden en verstrekking informatie voor derden, inclusief de wijzigingen hierop van 11 maart 2019 wordt gerapporteerd, is samengesteld volgens de voorschriften van het Besluit begroting en verantwoording gemeenten en provincies (artikelen 30 t/m 58) en de toelichting in het “Iv3-informatievoorschrift Provincies"op de site van de Rijksoverheid.
I70: 3 | J70: ="Verklaring Iv3 bij kwartaalrapportage "&'4.Informatie'!$C$7&", provincie "&'4.Informatie'!$C$5 -> Verklaring Iv3 bij kwartaalrapportage 2026, provincie aaaa | K70: ="het derde kwartaal van het jaar "&'4.Informatie'!$C$7 -> het derde kwartaal van het jaar 2026 | L70: Het balansstandenoverzicht waarover in de kwartaalrapportage volgens artikel 2, lid 6 van de Regeling vaststelling taakvelden en verstrekking informatie voor derden, inclusief de wijzigingen hierop van 11 maart 2019 wordt gerapporteerd, is samengesteld volgens de voorschriften van het Besluit begroting en verantwoording gemeenten en provincies (artikelen 30 t/m 58) en de toelichting in het “Iv3-informatievoorschrift Provincies" op de site van de Rijksoverheid.
I71: 4 | J71: ="Verklaring Iv3 bij kwartaalrapportage "&'4.Informatie'!$C$7&", provincie "&'4.Informatie'!$C$5 -> Verklaring Iv3 bij kwartaalrapportage 2026, provincie aaaa | K71: ="het vierde kwartaal van het jaar "&'4.Informatie'!$C$7 -> het vierde kwartaal van het jaar 2026 | L71: Het balansstandenoverzicht waarover in de kwartaalrapportage volgens artikel 2, lid 6 van de Regeling vaststelling taakvelden en verstrekking informatie voor derden, inclusief de wijzigingen hierop van 11 maart 2019 wordt gerapporteerd, is samengesteld volgens de voorschriften van het Besluit begroting en verantwoording gemeenten en provincies (artikelen 30 t/m 58) en de toelichting in de het “Iv3-informatievoorschrift Provincies" op de site van de Rijksoverheid.
I72: 5 | J72: ="Verklaring Iv3 bij jaarrapportage "&'4.Informatie'!$C$7&", provincie "&'4.Informatie'!$C$5 -> Verklaring Iv3 bij jaarrapportage 2026, provincie aaaa | K72: ="de rekening van het jaar "&'4.Informatie'!$C$7 -> de rekening van het jaar 2026 | L72: Het balansstandenoverzicht waarover in de jaarrapportage volgens artikel 2, lid 5 van de Regeling vaststelling taakvelden en verstrekking informatie voor derden, inclusief de wijzigingen hierop van 11 maart 2019 wordt gerapporteerd, is samengesteld volgens de voorschriften van het Besluit begroting en verantwoording gemeenten en provincies (artikelen 30 t/m 58) en de toelichting in de het “Iv3-informatievoorschrift Provincies" op de site van de Rijksoverheid.

Sheet 9.Eindoordeel
A1: Acceptatietoetsen
A3: Ook in het Iv3-model 2026 zijn toetsen opgenomen die onderdeel uitmaken van het maatregelenbeleid. Deze toetsen zijn niet gewijzigd ten opzichte van het model 2025.
A5: Na ontvangst van uw inzending controleert het CBS direct of de gegevens voldoen aan de acceptatietoetsen. Hiervan ontvangt u ook meteen het resultaat. Voor de begroting geldt (voorlopig) alleen toets 6. Voor de kwartaalrealisaties tellen de toetsen 1 t/m 5 en toets 9, waar bij toets 3 alleen op de aansluiting tussen de financiële balansmutaties in de matrix en de verandering van de financiële balansstanden wordt gecontroleerd. Bij de jaarrealisatie gelden alle 9 toetsen. Indien één van de toetsen die geldt voor de betreffende levering onvoldoende scoort, wordt de inzending afgekeurd. De geldigheid van de toetsen in dit overzicht is gekoppeld aan de waarde die u invult bij het veld Periode op tabblad "4.Informatie".
A7: De acceptatietoetsen behelzen het evenwicht van het saldo van niet-financiële transacties en financiële transacties (toets 1), het gebruik van de juiste categorieën op de financiële balansmutaties (toets 2), de aansluiting tussen de balansmutaties in de matrix en de verandering van de balansstanden (toets 3), het evenwicht van de interne verrekeningen (toets 4) en het gebruik van de financiële categorie (6.1) buiten de financiële balans (toets 5), het evenwicht van de lasten en baten op de taakvelden en of het totaal van de lasten en baten van de taakvelden groter is dan 0 of te wel niet leeg (toets 6), het evenwicht van activa en passiva op de primo balans (toets 7) en ultimo balans (toets 8) en het gebruik van de categorieën 4.3.9 "Inkomensoverdrachten - onverdeeld en 4.4.9 "Kapitaaloverdrachten - onverdeeld (toets 9).
A9: De eventuele fout bij toetsen 1, 2, 4 en 5 wordt uitgedrukt als percentage van het lastentotaal, waarbij een maximale foutmarge wordt toegestaan van 1 procent. Het lastentotaal is hierbij gedefinieerd als de som van het totaal van de lastencategorieën 1 t/m 5 in de matrix. De eventuele fout bij toets 3 (de aansluiting tussen de balansmutaties in de matrix en de verandering van de balansstanden) wordt uitgedrukt als percentage van het gemiddelde van het totaal van de som van primo en ultimo balansstanden. Ook hier geldt een maximale foutmarge van 1 procent. Bij toetsen 6 t/m 9 bedraagt de eventuele toegestane fout 50 duizend euro.
A12: EINDOORDEEL
A13: Uitkomsten: | B13: Toets | C13: Omschrijving | D13: Waardering | E13: Afwijking | F13: Geldig (K=kwartaal; J=jaarrapportage; B= begroting
B14: 1 | C14: Saldo niet-financiële rekening = saldo financiële rekening | D14: =+D32 -> voldoende | E14: =+D31 -> 0.0010789459 | F14: K/J
B15: 2 | C15: Gebruik juiste categorieën (6.1, 7.2 en 7.5) op financiële balans | D15: =+D99 -> voldoende | E15: =+F98 -> 0 | F15: K/J
B16: 3 | C16: Ontwikkeling balansstanden - mutaties in de matrix | D16: =+D184 -> voldoende | E16: =+K183 -> 2.5760117e-06 | F16: K/J (K alleen financieel)
B17: 4 | C17: Verrekencategorieën | D17: =+D198 -> voldoende | E17: =+F197 -> 2.2859024e-06 | F17: K/J
B18: 5 | C18: Categorie 6.1 buiten financiële balans | D18: =+D212 -> voldoende | E18: =+F211 -> 0 | F18: K/J
B19: 6 | C19: Totaal lasten taakvelden = totaal baten taakvelden | Totaal lasten taakvelden + totaal baten taakvelden > 0 | D19: =+D221 -> nvt | E19: =+F219 -> - | F19: B/J
B20: 7 | C20: Totaal primo stand balans activa = totaal primo stand balans passiva | D20: =+D230 -> nvt | E20: =+F228 -> - | F20: J
B21: 8 | C21: Totaal ultimo stand balans activa = totaal ultimo stand balans passiva | D21: =+D239 -> nvt | E21: =+F237 -> - | F21: J
B22: 9 | C22: Gebruik categorieën 4.3.9 en 4.4.9 in periode 1 t/m 5 | D22: =+D249 -> voldoende | E22: =+F247 -> 0 | F22: K/J
C23: EINDOORDEEL = | D23: =+IF(OR(D14="onvoldoende",D15="onvoldoende",D16="onvoldoende",D17="onvoldoende",D18="onvoldoende",D19="onvoldoende",D20="onvoldoende",D21="onvoldoende",D22="onvoldoende"),"onvoldoende","voldoende") -> voldoende
B24: =IF(AND('4.Informatie'!C8=0,SUM('5.Verdelingsmatrix lasten'!AN172+'6.Verdelingsmatrix baten'!AP172)=0),"De balansmutaties ontbreken in deze aanlevering. Deze zijn verplicht bij de begrotingsrapportage sinds de invoering van het nieuwe model (artikel 71 lid c van het BBV)","")
A26: Toets 1 | C26: Saldo niet-financiële rekening = saldo financiële rekening
B27: a | C27: Totaal lasten categorieën 1 t/m 5 | D27: =IF('4.Informatie'!C8=0,"-",SUM('5.Verdelingsmatrix lasten'!$C$174:$AG$174)) -> 437464
B28: b | C28: EMU-saldo berekend uit de niet-financiële rekening (cat 1 t/m 5) | D28: =IF('4.Informatie'!C8=0,"-",SUM('6.Verdelingsmatrix baten'!$C$174:$AI$174)-'9.Eindoordeel'!$D$27) -> -67480
B29: c | C29: EMU-saldo berekend uit de financiële rekening (cat 6.1) | D29: =IF('4.Informatie'!C8=0,"-",'5.Verdelingsmatrix lasten'!$AH$174-'6.Verdelingsmatrix baten'!$AJ$174) -> -67008
B30: d=|b-c| | C30: Absolute afwijking | D30: =IF('4.Informatie'!C8=0,"-",ABS(D28-D29)) -> 472
B31: e=d/a | C31: Afwijking in procenten | D31: =IF('4.Informatie'!C8=0,"-",IF(ISERROR(D30/D27),1,D30/D27)) -> 0.0010789459
C32: Waardering = | D32: =IF('4.Informatie'!C8<>0,IF(D31<=0.01,"voldoende","onvoldoende"),"nvt") -> voldoende
A35: Toets 2 | C35: Gebruik juiste categorieën op financiële balans
C36: Balanspost | D36: L ≠ 6.1, 7.2 of 7.5 | E36: B ≠ 6.1, 7.2 of 7.5
D37: a | E37: b | F37: c=|a|+|b|
C38: A1311 | D38: =VLOOKUP(C38,'5.Verdelingsmatrix lasten'!$A:$AN,40,FALSE)-VLOOKUP(C38,'5.Verdelingsmatrix lasten'!$A:$AN,MATCH("6.1",'5.Verdelingsmatrix lasten'!$A$1:$AN$1,0),FALSE)-VLOOKUP(C38,'5.Verdelingsmatrix lasten'!$A:$AN,MATCH("7.2",'5.Verdelingsmatrix lasten'!$A$1:$AN$1,0),FALSE)-VLOOKUP(C38,'5.Verdelingsmatrix lasten'!$A:$AN,MATCH("7.5",'5.Verdelingsmatrix lasten'!$A$1:$AN$1,0),FALSE) -> 0 | E38: =VLOOKUP(C38,'6.Verdelingsmatrix baten'!$A:$AP,42,FALSE)-VLOOKUP(C38,'6.Verdelingsmatrix baten'!$A:$AP,MATCH("6.1",'6.Verdelingsmatrix baten'!$A$1:$AP$1,0),FALSE)-VLOOKUP(C38,'6.Verdelingsmatrix baten'!$A:$AP,MATCH("7.2",'6.Verdelingsmatrix baten'!$A$1:$AP$1,0),FALSE)-VLOOKUP(C38,'6.Verdelingsmatrix baten'!$A:$AP,MATCH("7.5",'6.Verdelingsmatrix baten'!$A$1:$AP$1,0),FALSE) -> 0 | F38: =+ABS(D38)+ABS(E38) -> 0
C39: A1312 | D39: =VLOOKUP(C39,'5.Verdelingsmatrix lasten'!$A:$AN,40,FALSE)-VLOOKUP(C39,'5.Verdelingsmatrix lasten'!$A:$AN,MATCH("6.1",'5.Verdelingsmatrix lasten'!$A$1:$AN$1,0),FALSE)-VLOOKUP(C39,'5.Verdelingsmatrix lasten'!$A:$AN,MATCH("7.2",'5.Verdelingsmatrix lasten'!$A$1:$AN$1,0),FALSE)-VLOOKUP(C39,'5.Verdelingsmatrix lasten'!$A:$AN,MATCH("7.5",'5.Verdelingsmatrix lasten'!$A$1:$AN$1,0),FALSE) -> 0 | E39: =VLOOKUP(C39,'6.Verdelingsmatrix baten'!$A:$AP,42,FALSE)-VLOOKUP(C39,'6.Verdelingsmatrix baten'!$A:$AP,MATCH("6.1",'6.Verdelingsmatrix baten'!$A$1:$AP$1,0),FALSE)-VLOOKUP(C39,'6.Verdelingsmatrix baten'!$A:$AP,MATCH("7.2",'6.Verdelingsmatrix baten'!$A$1:$AP$1,0),FALSE)-VLOOKUP(C39,'6.Verdelingsmatrix baten'!$A:$AP,MATCH("7.5",'6.Verdelingsmatrix baten'!$A$1:$AP$1,0),FALSE) -> 0 | F39: =+ABS(D39)+ABS(E39) -> 0
C40: A1313 | D40: =VLOOKUP(C40,'5.Verdelingsmatrix lasten'!$A:$AN,40,FALSE)-VLOOKUP(C40,'5.Verdelingsmatrix lasten'!$A:$AN,MATCH("6.1",'5.Verdelingsmatrix lasten'!$A$1:$AN$1,0),FALSE)-VLOOKUP(C40,'5.Verdelingsmatrix lasten'!$A:$AN,MATCH("7.2",'5.Verdelingsmatrix lasten'!$A$1:$AN$1,0),FALSE)-VLOOKUP(C40,'5.Verdelingsmatrix lasten'!$A:$AN,MATCH("7.5",'5.Verdelingsmatrix lasten'!$A$1:$AN$1,0),FALSE) -> 0 | E40: =VLOOKUP(C40,'6.Verdelingsmatrix baten'!$A:$AP,42,FALSE)-VLOOKUP(C40,'6.Verdelingsmatrix baten'!$A:$AP,MATCH("6.1",'6.Verdelingsmatrix baten'!$A$1:$AP$1,0),FALSE)-VLOOKUP(C40,'6.Verdelingsmatrix baten'!$A:$AP,MATCH("7.2",'6.Verdelingsmatrix baten'!$A$1:$AP$1,0),FALSE)-VLOOKUP(C40,'6.Verdelingsmatrix baten'!$A:$AP,MATCH("7.5",'6.Verdelingsmatrix baten'!$A$1:$AP$1,0),FALSE) -> 0 | F40: =+ABS(D40)+ABS(E40) -> 0
C41: A1321 | D41: =VLOOKUP(C41,'5.Verdelingsmatrix lasten'!$A:$AN,40,FALSE)-VLOOKUP(C41,'5.Verdelingsmatrix lasten'!$A:$AN,MATCH("6.1",'5.Verdelingsmatrix lasten'!$A$1:$AN$1,0),FALSE)-VLOOKUP(C41,'5.Verdelingsmatrix lasten'!$A:$AN,MATCH("7.2",'5.Verdelingsmatrix lasten'!$A$1:$AN$1,0),FALSE)-VLOOKUP(C41,'5.Verdelingsmatrix lasten'!$A:$AN,MATCH("7.5",'5.Verdelingsmatrix lasten'!$A$1:$AN$1,0),FALSE) -> 0 | E41: =VLOOKUP(C41,'6.Verdelingsmatrix baten'!$A:$AP,42,FALSE)-VLOOKUP(C41,'6.Verdelingsmatrix baten'!$A:$AP,MATCH("6.1",'6.Verdelingsmatrix baten'!$A$1:$AP$1,0),FALSE)-VLOOKUP(C41,'6.Verdelingsmatrix baten'!$A:$AP,MATCH("7.2",'6.Verdelingsmatrix baten'!$A$1:$AP$1,0),FALSE)-VLOOKUP(C41,'6.Verdelingsmatrix baten'!$A:$AP,MATCH("7.5",'6.Verdelingsmatrix baten'!$A$1:$AP$1,0),FALSE) -> 0 | F41: =+ABS(D41)+ABS(E41) -> 0
C42: A1322 | D42: =VLOOKUP(C42,'5.Verdelingsmatrix lasten'!$A:$AN,40,FALSE)-VLOOKUP(C42,'5.Verdelingsmatrix lasten'!$A:$AN,MATCH("6.1",'5.Verdelingsmatrix lasten'!$A$1:$AN$1,0),FALSE)-VLOOKUP(C42,'5.Verdelingsmatrix lasten'!$A:$AN,MATCH("7.2",'5.Verdelingsmatrix lasten'!$A$1:$AN$1,0),FALSE)-VLOOKUP(C42,'5.Verdelingsmatrix lasten'!$A:$AN,MATCH("7.5",'5.Verdelingsmatrix lasten'!$A$1:$AN$1,0),FALSE) -> 0 | E42: =VLOOKUP(C42,'6.Verdelingsmatrix baten'!$A:$AP,42,FALSE)-VLOOKUP(C42,'6.Verdelingsmatrix baten'!$A:$AP,MATCH("6.1",'6.Verdelingsmatrix baten'!$A$1:$AP$1,0),FALSE)-VLOOKUP(C42,'6.Verdelingsmatrix baten'!$A:$AP,MATCH("7.2",'6.Verdelingsmatrix baten'!$A$1:$AP$1,0),FALSE)-VLOOKUP(C42,'6.Verdelingsmatrix baten'!$A:$AP,MATCH("7.5",'6.Verdelingsmatrix baten'!$A$1:$AP$1,0),FALSE) -> 0 | F42: =+ABS(D42)+ABS(E42) -> 0
C43: A1323 | D43: =VLOOKUP(C43,'5.Verdelingsmatrix lasten'!$A:$AN,40,FALSE)-VLOOKUP(C43,'5.Verdelingsmatrix lasten'!$A:$AN,MATCH("6.1",'5.Verdelingsmatrix lasten'!$A$1:$AN$1,0),FALSE)-VLOOKUP(C43,'5.Verdelingsmatrix lasten'!$A:$AN,MATCH("7.2",'5.Verdelingsmatrix lasten'!$A$1:$AN$1,0),FALSE)-VLOOKUP(C43,'5.Verdelingsmatrix lasten'!$A:$AN,MATCH("7.5",'5.Verdelingsmatrix lasten'!$A$1:$AN$1,0),FALSE) -> 0 | E43: =VLOOKUP(C43,'6.Verdelingsmatrix baten'!$A:$AP,42,FALSE)-VLOOKUP(C43,'6.Verdelingsmatrix baten'!$A:$AP,MATCH("6.1",'6.Verdelingsmatrix baten'!$A$1:$AP$1,0),FALSE)-VLOOKUP(C43,'6.Verdelingsmatrix baten'!$A:$AP,MATCH("7.2",'6.Verdelingsmatrix baten'!$A$1:$AP$1,0),FALSE)-VLOOKUP(C43,'6.Verdelingsmatrix baten'!$A:$AP,MATCH("7.5",'6.Verdelingsmatrix baten'!$A$1:$AP$1,0),FALSE) -> 0 | F43: =+ABS(D43)+ABS(E43) -> 0
C44: A1331b | D44: =VLOOKUP(C44,'5.Verdelingsmatrix lasten'!$A:$AN,40,FALSE)-VLOOKUP(C44,'5.Verdelingsmatrix lasten'!$A:$AN,MATCH("6.1",'5.Verdelingsmatrix lasten'!$A$1:$AN$1,0),FALSE)-VLOOKUP(C44,'5.Verdelingsmatrix lasten'!$A:$AN,MATCH("7.2",'5.Verdelingsmatrix lasten'!$A$1:$AN$1,0),FALSE)-VLOOKUP(C44,'5.Verdelingsmatrix lasten'!$A:$AN,MATCH("7.5",'5.Verdelingsmatrix lasten'!$A$1:$AN$1,0),FALSE) -> 0 | E44: =VLOOKUP(C44,'6.Verdelingsmatrix baten'!$A:$AP,42,FALSE)-VLOOKUP(C44,'6.Verdelingsmatrix baten'!$A:$AP,MATCH("6.1",'6.Verdelingsmatrix baten'!$A$1:$AP$1,0),FALSE)-VLOOKUP(C44,'6.Verdelingsmatrix baten'!$A:$AP,MATCH("7.2",'6.Verdelingsmatrix baten'!$A$1:$AP$1,0),FALSE)-VLOOKUP(C44,'6.Verdelingsmatrix baten'!$A:$AP,MATCH("7.5",'6.Verdelingsmatrix baten'!$A$1:$AP$1,0),FALSE) -> 0 | F44: =+ABS(D44)+ABS(E44) -> 0
C45: A1331c | D45: =VLOOKUP(C45,'5.Verdelingsmatrix lasten'!$A:$AN,40,FALSE)-VLOOKUP(C45,'5.Verdelingsmatrix lasten'!$A:$AN,MATCH("6.1",'5.Verdelingsmatrix lasten'!$A$1:$AN$1,0),FALSE)-VLOOKUP(C45,'5.Verdelingsmatrix lasten'!$A:$AN,MATCH("7.2",'5.Verdelingsmatrix lasten'!$A$1:$AN$1,0),FALSE)-VLOOKUP(C45,'5.Verdelingsmatrix lasten'!$A:$AN,MATCH("7.5",'5.Verdelingsmatrix lasten'!$A$1:$AN$1,0),FALSE) -> 0 | E45: =VLOOKUP(C45,'6.Verdelingsmatrix baten'!$A:$AP,42,FALSE)-VLOOKUP(C45,'6.Verdelingsmatrix baten'!$A:$AP,MATCH("6.1",'6.Verdelingsmatrix baten'!$A$1:$AP$1,0),FALSE)-VLOOKUP(C45,'6.Verdelingsmatrix baten'!$A:$AP,MATCH("7.2",'6.Verdelingsmatrix baten'!$A$1:$AP$1,0),FALSE)-VLOOKUP(C45,'6.Verdelingsmatrix baten'!$A:$AP,MATCH("7.5",'6.Verdelingsmatrix baten'!$A$1:$AP$1,0),FALSE) -> 0 | F45: =+ABS(D45)+ABS(E45) -> 0
C46: A1331d | D46: =VLOOKUP(C46,'5.Verdelingsmatrix lasten'!$A:$AN,40,FALSE)-VLOOKUP(C46,'5.Verdelingsmatrix lasten'!$A:$AN,MATCH("6.1",'5.Verdelingsmatrix lasten'!$A$1:$AN$1,0),FALSE)-VLOOKUP(C46,'5.Verdelingsmatrix lasten'!$A:$AN,MATCH("7.2",'5.Verdelingsmatrix lasten'!$A$1:$AN$1,0),FALSE)-VLOOKUP(C46,'5.Verdelingsmatrix lasten'!$A:$AN,MATCH("7.5",'5.Verdelingsmatrix lasten'!$A$1:$AN$1,0),FALSE) -> 0 | E46: =VLOOKUP(C46,'6.Verdelingsmatrix baten'!$A:$AP,42,FALSE)-VLOOKUP(C46,'6.Verdelingsmatrix baten'!$A:$AP,MATCH("6.1",'6.Verdelingsmatrix baten'!$A$1:$AP$1,0),FALSE)-VLOOKUP(C46,'6.Verdelingsmatrix baten'!$A:$AP,MATCH("7.2",'6.Verdelingsmatrix baten'!$A$1:$AP$1,0),FALSE)-VLOOKUP(C46,'6.Verdelingsmatrix baten'!$A:$AP,MATCH("7.5",'6.Verdelingsmatrix baten'!$A$1:$AP$1,0),FALSE) -> 0 | F46: =+ABS(D46)+ABS(E46) -> 0
C47: A1331e | D47: =VLOOKUP(C47,'5.Verdelingsmatrix lasten'!$A:$AN,40,FALSE)-VLOOKUP(C47,'5.Verdelingsmatrix lasten'!$A:$AN,MATCH("6.1",'5.Verdelingsmatrix lasten'!$A$1:$AN$1,0),FALSE)-VLOOKUP(C47,'5.Verdelingsmatrix lasten'!$A:$AN,MATCH("7.2",'5.Verdelingsmatrix lasten'!$A$1:$AN$1,0),FALSE)-VLOOKUP(C47,'5.Verdelingsmatrix lasten'!$A:$AN,MATCH("7.5",'5.Verdelingsmatrix lasten'!$A$1:$AN$1,0),FALSE) -> 0 | E47: =VLOOKUP(C47,'6.Verdelingsmatrix baten'!$A:$AP,42,FALSE)-VLOOKUP(C47,'6.Verdelingsmatrix baten'!$A:$AP,MATCH("6.1",'6.Verdelingsmatrix baten'!$A$1:$AP$1,0),FALSE)-VLOOKUP(C47,'6.Verdelingsmatrix baten'!$A:$AP,MATCH("7.2",'6.Verdelingsmatrix baten'!$A$1:$AP$1,0),FALSE)-VLOOKUP(C47,'6.Verdelingsmatrix baten'!$A:$AP,MATCH("7.5",'6.Verdelingsmatrix baten'!$A$1:$AP$1,0),FALSE) -> 0 | F47: =+ABS(D47)+ABS(E47) -> 0
C48: A1332a | D48: =VLOOKUP(C48,'5.Verdelingsmatrix lasten'!$A:$AN,40,FALSE)-VLOOKUP(C48,'5.Verdelingsmatrix lasten'!$A:$AN,MATCH("6.1",'5.Verdelingsmatrix lasten'!$A$1:$AN$1,0),FALSE)-VLOOKUP(C48,'5.Verdelingsmatrix lasten'!$A:$AN,MATCH("7.2",'5.Verdelingsmatrix lasten'!$A$1:$AN$1,0),FALSE)-VLOOKUP(C48,'5.Verdelingsmatrix lasten'!$A:$AN,MATCH("7.5",'5.Verdelingsmatrix lasten'!$A$1:$AN$1,0),FALSE) -> 0 | E48: =VLOOKUP(C48,'6.Verdelingsmatrix baten'!$A:$AP,42,FALSE)-VLOOKUP(C48,'6.Verdelingsmatrix baten'!$A:$AP,MATCH("6.1",'6.Verdelingsmatrix baten'!$A$1:$AP$1,0),FALSE)-VLOOKUP(C48,'6.Verdelingsmatrix baten'!$A:$AP,MATCH("7.2",'6.Verdelingsmatrix baten'!$A$1:$AP$1,0),FALSE)-VLOOKUP(C48,'6.Verdelingsmatrix baten'!$A:$AP,MATCH("7.5",'6.Verdelingsmatrix baten'!$A$1:$AP$1,0),FALSE) -> 0 | F48: =+ABS(D48)+ABS(E48) -> 0
C49: A1332b | D49: =VLOOKUP(C49,'5.Verdelingsmatrix lasten'!$A:$AN,40,FALSE)-VLOOKUP(C49,'5.Verdelingsmatrix lasten'!$A:$AN,MATCH("6.1",'5.Verdelingsmatrix lasten'!$A$1:$AN$1,0),FALSE)-VLOOKUP(C49,'5.Verdelingsmatrix lasten'!$A:$AN,MATCH("7.2",'5.Verdelingsmatrix lasten'!$A$1:$AN$1,0),FALSE)-VLOOKUP(C49,'5.Verdelingsmatrix lasten'!$A:$AN,MATCH("7.5",'5.Verdelingsmatrix lasten'!$A$1:$AN$1,0),FALSE) -> 0 | E49: =VLOOKUP(C49,'6.Verdelingsmatrix baten'!$A:$AP,42,FALSE)-VLOOKUP(C49,'6.Verdelingsmatrix baten'!$A:$AP,MATCH("6.1",'6.Verdelingsmatrix baten'!$A$1:$AP$1,0),FALSE)-VLOOKUP(C49,'6.Verdelingsmatrix baten'!$A:$AP,MATCH("7.2",'6.Verdelingsmatrix baten'!$A$1:$AP$1,0),FALSE)-VLOOKUP(C49,'6.Verdelingsmatrix baten'!$A:$AP,MATCH("7.5",'6.Verdelingsmatrix baten'!$A$1:$AP$1,0),FALSE) -> 0 | F49: =+ABS(D49)+ABS(E49) -> 0
...
